BEGIN:VCALENDAR
VERSION:2.0
PRODID:-//CU Folk &amp; Roots - ECPv6.15.20//NONSGML v1.0//EN
CALSCALE:GREGORIAN
METHOD:PUBLISH
X-WR-CALNAME:CU Folk &amp; Roots
X-ORIGINAL-URL:https://folkandroots.org
X-WR-CALDESC:Events for CU Folk &amp; Roots
REFRESH-INTERVAL;VALUE=DURATION:PT1H
X-Robots-Tag:noindex
X-PUBLISHED-TTL:PT1H
BEGIN:VTIMEZONE
TZID:America/Chicago
BEGIN:DAYLIGHT
TZOFFSETFROM:-0600
TZOFFSETTO:-0500
TZNAME:CDT
DTSTART:20230312T080000
END:DAYLIGHT
BEGIN:STANDARD
TZOFFSETFROM:-0500
TZOFFSETTO:-0600
TZNAME:CST
DTSTART:20231105T070000
END:STANDARD
BEGIN:DAYLIGHT
TZOFFSETFROM:-0600
TZOFFSETTO:-0500
TZNAME:CDT
DTSTART:20240310T080000
END:DAYLIGHT
BEGIN:STANDARD
TZOFFSETFROM:-0500
TZOFFSETTO:-0600
TZNAME:CST
DTSTART:20241103T070000
END:STANDARD
BEGIN:DAYLIGHT
TZOFFSETFROM:-0600
TZOFFSETTO:-0500
TZNAME:CDT
DTSTART:20250309T080000
END:DAYLIGHT
BEGIN:STANDARD
TZOFFSETFROM:-0500
TZOFFSETTO:-0600
TZNAME:CST
DTSTART:20251102T070000
END:STANDARD
END:VTIMEZONE
BEGIN:VEVENT
DTSTART;TZID=America/Chicago:20240627T190000
DTEND;TZID=America/Chicago:20240627T210000
DTSTAMP:20260422T074514
CREATED:20240606T075050Z
LAST-MODIFIED:20240606T075501Z
UID:20845-1719514800-1719522000@folkandroots.org
SUMMARY:Old-Time Jam
DESCRIPTION:
URL:https://folkandroots.org/event/old-time-jam-13/
LOCATION:Lincoln Square Mall\, 201 Lincoln Square\, Urbana\, IL\, 61801\, United States
CATEGORIES:Old-Time Music
END:VEVENT
BEGIN:VEVENT
DTSTART;TZID=America/Chicago:20240625T193000
DTEND;TZID=America/Chicago:20240625T213000
DTSTAMP:20260422T074514
CREATED:20240531T041837Z
LAST-MODIFIED:20240606T060616Z
UID:20805-1719343800-1719351000@folkandroots.org
SUMMARY:International Folk Dance
DESCRIPTION:
URL:https://folkandroots.org/event/international-folk-dance-13/
LOCATION:UU Church of Urbana-Champaign\, 309 W Green St\, Urbana\, 61801\, United States
CATEGORIES:International Folk Dance
ORGANIZER;CN="Urbana Folkdance Organization":MAILTO:bonnythiel@yahoo.com
END:VEVENT
BEGIN:VEVENT
DTSTART;TZID=America/Chicago:20240621T193000
DTEND;TZID=America/Chicago:20240621T230000
DTSTAMP:20260422T074514
CREATED:20240423T061545Z
LAST-MODIFIED:20240520T051016Z
UID:20764-1718998200-1719010800@folkandroots.org
SUMMARY:Contra Dance!
DESCRIPTION:Band: Too Old To Be Controlled \nCaller: Jonathan Sivier \n7:30p Free Contra Dance Lesson
URL:https://folkandroots.org/event/contra-dance-4/
LOCATION:Channing-Murray Foundation\, 1209 W Oregon St\, Urbana\, IL\, 61801\, United States
CATEGORIES:Contra Dance
ORGANIZER;CN="Urbana Country Dancers":MAILTO:lewart3@gmail.com
END:VEVENT
BEGIN:VEVENT
DTSTART;TZID=America/Chicago:20240620T190000
DTEND;TZID=America/Chicago:20240620T210000
DTSTAMP:20260422T074514
CREATED:20240606T075005Z
LAST-MODIFIED:20240618T060624Z
UID:20843-1718910000-1718917200@folkandroots.org
SUMMARY:Old-Time Jam
DESCRIPTION:
URL:https://folkandroots.org/event/old-time-jam-12/
LOCATION:Lincoln Square Mall\, 201 Lincoln Square\, Urbana\, IL\, 61801\, United States
CATEGORIES:Old-Time Music
END:VEVENT
BEGIN:VEVENT
DTSTART;TZID=America/Chicago:20240618T193000
DTEND;TZID=America/Chicago:20240618T213000
DTSTAMP:20260422T074514
CREATED:20240531T041736Z
LAST-MODIFIED:20240606T060706Z
UID:20803-1718739000-1718746200@folkandroots.org
SUMMARY:International Folk Dance
DESCRIPTION:
URL:https://folkandroots.org/event/international-folk-dance-12/
LOCATION:UU Church of Urbana-Champaign\, 309 W Green St\, Urbana\, 61801\, United States
CATEGORIES:International Folk Dance
ORGANIZER;CN="Urbana Folkdance Organization":MAILTO:bonnythiel@yahoo.com
END:VEVENT
BEGIN:VEVENT
DTSTART;TZID=America/Chicago:20240615T140000
DTEND;TZID=America/Chicago:20240615T170000
DTSTAMP:20260422T074514
CREATED:20240531T042214Z
LAST-MODIFIED:20240612T210928Z
UID:20809-1718460000-1718470800@folkandroots.org
SUMMARY:Scottish Country Dance
DESCRIPTION:
URL:https://folkandroots.org/event/scottish-country-dance-2/
LOCATION:Phillips Recreation Center\, 505 W Stoughton St\, Urbana\, IL\, 61801\, United States
CATEGORIES:Scottish Country Dance
END:VEVENT
BEGIN:VEVENT
DTSTART;TZID=America/Chicago:20240613T190000
DTEND;TZID=America/Chicago:20240613T210000
DTSTAMP:20260422T074514
CREATED:20240606T074935Z
LAST-MODIFIED:20240606T075433Z
UID:20841-1718305200-1718312400@folkandroots.org
SUMMARY:Old-Time Jam
DESCRIPTION:
URL:https://folkandroots.org/event/old-time-jam-11/
LOCATION:Lincoln Square Mall\, 201 Lincoln Square\, Urbana\, IL\, 61801\, United States
CATEGORIES:Old-Time Music
END:VEVENT
BEGIN:VEVENT
DTSTART;TZID=America/Chicago:20240611T193000
DTEND;TZID=America/Chicago:20240611T213000
DTSTAMP:20260422T074514
CREATED:20240531T041626Z
LAST-MODIFIED:20240606T060506Z
UID:20801-1718134200-1718141400@folkandroots.org
SUMMARY:International Folk Dance
DESCRIPTION:
URL:https://folkandroots.org/event/international-folk-dance-11/
LOCATION:UU Church of Urbana-Champaign\, 309 W Green St\, Urbana\, 61801\, United States
CATEGORIES:International Folk Dance
ORGANIZER;CN="Urbana Folkdance Organization":MAILTO:bonnythiel@yahoo.com
END:VEVENT
BEGIN:VEVENT
DTSTART;TZID=America/Chicago:20240609T160000
DTEND;TZID=America/Chicago:20240609T180000
DTSTAMP:20260422T074514
CREATED:20240425T061053Z
LAST-MODIFIED:20240606T074228Z
UID:20785-1717948800-1717956000@folkandroots.org
SUMMARY:Occasional Cajun Band
DESCRIPTION:Our take on straight-up Cajun\, Creole and Zydeco music from the dance halls and festivals of southwest Louisiana. \nThe lineup will be Matt Turino on fiddles\, Sam Payne on guitar\, Dave (Big Daddy) Pride on drums\, and Rob Krumm on accordion. Special guest Randy Cordle will be sitting in with the band once again\, playing bass. \nExpect lively two-steps\, graceful waltzes and get-down Zydeco.
URL:https://folkandroots.org/event/occasional-cajun-band-2024-06-09/
LOCATION:Rose Bowl Tavern\, 106 N Race St\, Urbana\, IL\, 61801\, United States
CATEGORIES:Cajun
END:VEVENT
BEGIN:VEVENT
DTSTART;TZID=America/Chicago:20240609T140000
DTEND;TZID=America/Chicago:20240609T170000
DTSTAMP:20260422T074514
CREATED:20240531T042120Z
LAST-MODIFIED:20240531T042120Z
UID:20807-1717941600-1717952400@folkandroots.org
SUMMARY:English Country Dance
DESCRIPTION:
URL:https://folkandroots.org/event/english-country-dance-3/
LOCATION:Mansfield United Methodist Church\, 200 E Illinois St\, Mansfield\, IL\, 61854\, United States
CATEGORIES:English Country Dance
END:VEVENT
BEGIN:VEVENT
DTSTART;TZID=America/Chicago:20240607T193000
DTEND;TZID=America/Chicago:20240607T230000
DTSTAMP:20260422T074514
CREATED:20240423T061408Z
LAST-MODIFIED:20240520T050926Z
UID:20762-1717788600-1717801200@folkandroots.org
SUMMARY:Contra Dance!
DESCRIPTION:Band: Meadowhawk \nCaller: Miriam Larson \n7:30p Free Contra Dance Lesson
URL:https://folkandroots.org/event/contra-dance-3/
LOCATION:Phillips Recreation Center\, 505 W Stoughton St\, Urbana\, IL\, 61801\, United States
CATEGORIES:Contra Dance
ORGANIZER;CN="Urbana Country Dancers":MAILTO:lewart3@gmail.com
END:VEVENT
BEGIN:VEVENT
DTSTART;TZID=America/Chicago:20240606T190000
DTEND;TZID=America/Chicago:20240606T210000
DTSTAMP:20260422T074514
CREATED:20240606T074849Z
LAST-MODIFIED:20240606T075332Z
UID:20839-1717700400-1717707600@folkandroots.org
SUMMARY:Old-Time Jam
DESCRIPTION:
URL:https://folkandroots.org/event/old-time-jam-10/
LOCATION:Lincoln Square Mall\, 201 Lincoln Square\, Urbana\, IL\, 61801\, United States
CATEGORIES:Old-Time Music
END:VEVENT
BEGIN:VEVENT
DTSTART;TZID=America/Chicago:20240604T193000
DTEND;TZID=America/Chicago:20240604T213000
DTSTAMP:20260422T074514
CREATED:20240531T041515Z
LAST-MODIFIED:20240531T041515Z
UID:20799-1717529400-1717536600@folkandroots.org
SUMMARY:International Folk Dance
DESCRIPTION:
URL:https://folkandroots.org/event/international-folk-dance-10/
LOCATION:UU Church of Urbana-Champaign\, 309 W Green St\, Urbana\, 61801\, United States
CATEGORIES:International Folk Dance
ORGANIZER;CN="Urbana Folkdance Organization":MAILTO:bonnythiel@yahoo.com
END:VEVENT
BEGIN:VEVENT
DTSTART;TZID=America/Chicago:20240601T150000
DTEND;TZID=America/Chicago:20240601T170000
DTSTAMP:20260422T074514
CREATED:20240418T043004Z
LAST-MODIFIED:20240418T043004Z
UID:20752-1717254000-1717261200@folkandroots.org
SUMMARY:Meadowhawk
DESCRIPTION:Meadowhawk\, featuring Amanda Ramey and Claire Johnson on fiddles and Matt Turino on guitar/percussion/fiddle plays traditional and original tunes fusing many acoustic and dance styles. Consisting of mostly instrumental tunes\, their performances are high energy\, listenable\, danceable\, and always enjoyable. For all ages
URL:https://folkandroots.org/event/meadowhawk/
LOCATION:Rose Bowl Tavern\, 106 N Race St\, Urbana\, IL\, 61801\, United States
END:VEVENT
BEGIN:VEVENT
DTSTART;TZID=America/Chicago:20240530T190000
DTEND;TZID=America/Chicago:20240530T210000
DTSTAMP:20260422T074514
CREATED:20240410T131330Z
LAST-MODIFIED:20240410T131330Z
UID:20711-1717095600-1717102800@folkandroots.org
SUMMARY:Old-Time Jam
DESCRIPTION:
URL:https://folkandroots.org/event/old-time-jam-9/
LOCATION:Lincoln Square Mall\, 201 Lincoln Square\, Urbana\, IL\, 61801\, United States
CATEGORIES:Old-Time Music
END:VEVENT
BEGIN:VEVENT
DTSTART;TZID=America/Chicago:20240529T183000
DTEND;TZID=America/Chicago:20240529T200000
DTSTAMP:20260422T074514
CREATED:20240413T020820Z
LAST-MODIFIED:20240528T052234Z
UID:20734-1717007400-1717012800@folkandroots.org
SUMMARY:The Occasional Cajun Band w/ Blake Miller
DESCRIPTION:Greetings friends and music lovers\, \nThe Occasional Cajun Band will be performing on Wed.\, May 29 at Carle Park in Urbana\, 6:30 to 8:00PM. This concert will kick-off the 2024 Neighborhood Nights free concerts\, sponsored by the Urbana Park District. Bring a lawn chair or a blanket\, some friends and family and let’s get the summer started. \nFor this show\, the band will be joined by Blake Miller a multi-instrumentalist (fiddle\, accordion\, bass\, and more) and Grammy-nominated musician from the Lafayette\,. LA area. Blake was a founding member of the Pine Leaf Boys and also played with the Red Stick Ramblers. He currently plays with The Revelers and Blake Miller and his Old Fashioned Aces. Blake is the grandson of Larry Miller\, one of the well-known accordion builders in Louisiana. Blake grew up surrounded by Cajun music and culture. \nThe core of the band will be there and that includes Charlie Harris (bass)\, Sam Payne (guitar)\, Dad Dave Pride (drums)\, Matt Turino (fiddle) and yours truly on accordion. \nIn case of inclement weather\, the show will be on Thurs.\, May 30.  Thanks and I hope to see some of you at Carle Park. \nRob
URL:https://folkandroots.org/event/the-occasional-cajun-band/
LOCATION:Carle Park\, 400 W Indiana Ave\, Urbana\, IL\, 61801\, United States
CATEGORIES:Cajun
END:VEVENT
BEGIN:VEVENT
DTSTART;TZID=America/Chicago:20240528T193000
DTEND;TZID=America/Chicago:20240528T213000
DTSTAMP:20260422T074514
CREATED:20240410T131245Z
LAST-MODIFIED:20240410T131245Z
UID:20709-1716924600-1716931800@folkandroots.org
SUMMARY:International Folk Dance
DESCRIPTION:
URL:https://folkandroots.org/event/international-folk-dance-9/
LOCATION:UU Church of Urbana-Champaign\, 309 W Green St\, Urbana\, 61801\, United States
CATEGORIES:International Folk Dance
ORGANIZER;CN="Urbana Folkdance Organization":MAILTO:bonnythiel@yahoo.com
END:VEVENT
BEGIN:VEVENT
DTSTART;TZID=America/Chicago:20240523T190000
DTEND;TZID=America/Chicago:20240523T210000
DTSTAMP:20260422T074514
CREATED:20240410T131147Z
LAST-MODIFIED:20240410T131147Z
UID:20707-1716490800-1716498000@folkandroots.org
SUMMARY:Old-Time Jam
DESCRIPTION:
URL:https://folkandroots.org/event/old-time-jam-8/
LOCATION:Lincoln Square Mall\, 201 Lincoln Square\, Urbana\, IL\, 61801\, United States
CATEGORIES:Old-Time Music
END:VEVENT
BEGIN:VEVENT
DTSTART;TZID=America/Chicago:20240521T193000
DTEND;TZID=America/Chicago:20240521T213000
DTSTAMP:20260422T074514
CREATED:20240410T131100Z
LAST-MODIFIED:20240410T131100Z
UID:20705-1716319800-1716327000@folkandroots.org
SUMMARY:International Folk Dance
DESCRIPTION:
URL:https://folkandroots.org/event/international-folk-dance-8/
LOCATION:UU Church of Urbana-Champaign\, 309 W Green St\, Urbana\, 61801\, United States
CATEGORIES:International Folk Dance
ORGANIZER;CN="Urbana Folkdance Organization":MAILTO:bonnythiel@yahoo.com
END:VEVENT
BEGIN:VEVENT
DTSTART;TZID=America/Chicago:20240519T140000
DTEND;TZID=America/Chicago:20240519T170000
DTSTAMP:20260422T074514
CREATED:20240425T055606Z
LAST-MODIFIED:20240425T055606Z
UID:20782-1716127200-1716138000@folkandroots.org
SUMMARY:English Country Dance
DESCRIPTION:Band: Flatland Consort
URL:https://folkandroots.org/event/english-country-dance-2/
LOCATION:Mansfield United Methodist Church\, 200 E Illinois St\, Mansfield\, IL\, 61854\, United States
CATEGORIES:English Country Dance
END:VEVENT
BEGIN:VEVENT
DTSTART;TZID=America/Chicago:20240517T193000
DTEND;TZID=America/Chicago:20240517T230000
DTSTAMP:20260422T074514
CREATED:20240410T131603Z
LAST-MODIFIED:20240425T054402Z
UID:20713-1715974200-1715986800@folkandroots.org
SUMMARY:Contra Dance!
DESCRIPTION:Band: The Young and the Fretless \nCaller: Kristi Emilsson \n7:30p Free Contra Dance Lesson
URL:https://folkandroots.org/event/contra-dance-2/
LOCATION:Channing-Murray Foundation\, 1209 W Oregon St\, Urbana\, IL\, 61801\, United States
CATEGORIES:Contra Dance
ORGANIZER;CN="Urbana Country Dancers":MAILTO:lewart3@gmail.com
END:VEVENT
BEGIN:VEVENT
DTSTART;TZID=America/Chicago:20240516T190000
DTEND;TZID=America/Chicago:20240516T210000
DTSTAMP:20260422T074514
CREATED:20240410T130953Z
LAST-MODIFIED:20240410T130953Z
UID:20703-1715886000-1715893200@folkandroots.org
SUMMARY:Old-Time Jam
DESCRIPTION:
URL:https://folkandroots.org/event/old-time-jam-7/
LOCATION:Lincoln Square Mall\, 201 Lincoln Square\, Urbana\, IL\, 61801\, United States
CATEGORIES:Old-Time Music
END:VEVENT
BEGIN:VEVENT
DTSTART;TZID=America/Chicago:20240514T190000
DTEND;TZID=America/Chicago:20240514T210000
DTSTAMP:20260422T074514
CREATED:20240410T130905Z
LAST-MODIFIED:20240410T130905Z
UID:20701-1715713200-1715720400@folkandroots.org
SUMMARY:International Folk Dance
DESCRIPTION:
URL:https://folkandroots.org/event/international-folk-dance-7/
LOCATION:UU Church of Urbana-Champaign\, 309 W Green St\, Urbana\, 61801\, United States
CATEGORIES:International Folk Dance
ORGANIZER;CN="Urbana Folkdance Organization":MAILTO:bonnythiel@yahoo.com
END:VEVENT
BEGIN:VEVENT
DTSTART;TZID=America/Chicago:20240512T160000
DTEND;TZID=America/Chicago:20240512T180000
DTSTAMP:20260422T074514
CREATED:20240404T103327Z
LAST-MODIFIED:20240425T060618Z
UID:20626-1715529600-1715536800@folkandroots.org
SUMMARY:Occasional Cajun Band ft. Jeff Yonkus
DESCRIPTION:Occasional Cajun Band! Every 2nd Sunday of the month! 4-6pm \nThe Occasional Cajun Band plays a mix of traditional Cajun\, Creole and Zydeco music. The band performs music found in the dancehalls (and at festivals) in southwest Louisiana including lively two-steps\, soulful waltzes\, and get-down Zydeco. We hope that you’ll want to dance. Musical influences include the Balfa Brothers\, Boozoo Chavis\, Bois Sec Ardoin\, Canray Fontenot\, Preston Frank\, and Steve Riley and the Mamou Playboys.Based in Urbana\, the lineup includes Matt Turino (fiddle) Rob Krumm (accordion)\, Charlie Harris (bass)\, Sam Payne (guitar)\, Dave Pride (drums) and this months special guest Clayton Burke on pedal steel.
URL:https://folkandroots.org/event/occasional-cajun-band-2/
LOCATION:Rose Bowl Tavern\, 106 N Race St\, Urbana\, IL\, 61801\, United States
CATEGORIES:Cajun
END:VEVENT
BEGIN:VEVENT
DTSTART;TZID=America/Chicago:20240511T150000
DTEND;TZID=America/Chicago:20240511T170000
DTSTAMP:20260422T074514
CREATED:20240418T042624Z
LAST-MODIFIED:20240418T042624Z
UID:20749-1715439600-1715446800@folkandroots.org
SUMMARY:Turino Family Band
DESCRIPTION:The Turino Family Band is back on the patio at the Rose Bowl Tavern\nNo cover! \nMatt (fiddle\, guitar\, feet\, and vocals) and Tom (banjo\, accordions\, fiddle\, and vocals) have been playing string band\, Cajun\, and original tunes together for thirty years–since Matt was seven. Around Urbana-Champaign they have been part of the Squeezetones\, The Cornstalkers\, and the touring contra dance band\, Euphor\, as well as playing as a duo.\nAfter moving to Kentucky\, Tom teamed up with his wife Shannon (guitar\, vocals\, triangle) to form the core of various bands playing old time and Cajun music. Meanwhile Matt and his partner Claire Johnson (fiddle) began performing in the sterling string trio\, Meadowhawk. They also take great pleasure playing together whenever the family gets together
URL:https://folkandroots.org/event/turino-family-band/
LOCATION:Rose Bowl Tavern\, 106 N Race St\, Urbana\, IL\, 61801\, United States
CATEGORIES:Cajun,Old-Time Music
END:VEVENT
BEGIN:VEVENT
DTSTART;TZID=America/Chicago:20240509T200000
DTEND;TZID=America/Chicago:20240509T220000
DTSTAMP:20260422T074514
CREATED:20240425T062432Z
LAST-MODIFIED:20240425T062432Z
UID:20787-1715284800-1715292000@folkandroots.org
SUMMARY:Larry & Joe
DESCRIPTION:Reimagining their two musical traditions\, Llanera superstar Larry Bellorín (Venezuela) and Latingrass GRAMMY-nominee Joe Troop (North Carolina) play harp\, banjo\, fiddle\, cuatro\, maracas\, guitar\, upright bass\, and sing to inspire joy and unity. Program en ingles y espańol.
URL:https://folkandroots.org/event/larry-joe/
LOCATION:Rose Bowl Tavern\, 106 N Race St\, Urbana\, IL\, 61801\, United States
END:VEVENT
BEGIN:VEVENT
DTSTART;TZID=America/Chicago:20240509T190000
DTEND;TZID=America/Chicago:20240509T210000
DTSTAMP:20260422T074514
CREATED:20240410T130752Z
LAST-MODIFIED:20240410T130752Z
UID:20699-1715281200-1715288400@folkandroots.org
SUMMARY:Old-Time Jam
DESCRIPTION:
URL:https://folkandroots.org/event/old-time-jam-6/
LOCATION:Lincoln Square Mall\, 201 Lincoln Square\, Urbana\, IL\, 61801\, United States
CATEGORIES:Old-Time Music
END:VEVENT
BEGIN:VEVENT
DTSTART;TZID=America/Chicago:20240507T190000
DTEND;TZID=America/Chicago:20240507T210000
DTSTAMP:20260422T074514
CREATED:20240410T130648Z
LAST-MODIFIED:20240410T130648Z
UID:20697-1715108400-1715115600@folkandroots.org
SUMMARY:International Folk Dance
DESCRIPTION:
URL:https://folkandroots.org/event/international-folk-dance-6/
LOCATION:UU Church of Urbana-Champaign\, 309 W Green St\, Urbana\, 61801\, United States
CATEGORIES:International Folk Dance
ORGANIZER;CN="Urbana Folkdance Organization":MAILTO:bonnythiel@yahoo.com
END:VEVENT
BEGIN:VEVENT
DTSTART;TZID=America/Chicago:20240505T190000
DTEND;TZID=America/Chicago:20240505T210000
DTSTAMP:20260422T074514
CREATED:20240418T042324Z
LAST-MODIFIED:20240418T042324Z
UID:20747-1714935600-1714942800@folkandroots.org
SUMMARY:Grupo Afirmativo
DESCRIPTION:Afirmativo is a Guitar based Sirreño band from Champaign Illinois. Playing folk music from northern Mexico and influenced by polka rhythm. Sirreño (Mountain music) is a staple of Mexican folk music.
URL:https://folkandroots.org/event/grupo-afirmativo/
LOCATION:Rose Bowl Tavern\, 106 N Race St\, Urbana\, IL\, 61801\, United States
END:VEVENT
BEGIN:VEVENT
DTSTART;TZID=America/Chicago:20240505T100000
DTEND;TZID=America/Chicago:20240505T120000
DTSTAMP:20260422T074514
CREATED:20240404T095600Z
LAST-MODIFIED:20240404T095600Z
UID:20605-1714903200-1714910400@folkandroots.org
SUMMARY:2024 CU Tango Music Festival
DESCRIPTION:
URL:https://folkandroots.org/event/2024-cu-tango-music-festival-2/
LOCATION:Urbana Dance Company\, 122 W Main St\, Urbana\, IL\, 61801\, United States
CATEGORIES:Tango
ORGANIZER;CN="CU Tango Music":MAILTO:cutangomusic@gmail.com
END:VEVENT
END:VCALENDAR