BEGIN:VCALENDAR
VERSION:2.0
PRODID:-//CU Folk &amp; Roots - ECPv6.15.20//NONSGML v1.0//EN
CALSCALE:GREGORIAN
METHOD:PUBLISH
X-WR-CALNAME:CU Folk &amp; Roots
X-ORIGINAL-URL:https://folkandroots.org
X-WR-CALDESC:Events for CU Folk &amp; Roots
REFRESH-INTERVAL;VALUE=DURATION:PT1H
X-Robots-Tag:noindex
X-PUBLISHED-TTL:PT1H
BEGIN:VTIMEZONE
TZID:America/Chicago
BEGIN:DAYLIGHT
TZOFFSETFROM:-0600
TZOFFSETTO:-0500
TZNAME:CDT
DTSTART:20230312T080000
END:DAYLIGHT
BEGIN:STANDARD
TZOFFSETFROM:-0500
TZOFFSETTO:-0600
TZNAME:CST
DTSTART:20231105T070000
END:STANDARD
BEGIN:DAYLIGHT
TZOFFSETFROM:-0600
TZOFFSETTO:-0500
TZNAME:CDT
DTSTART:20240310T080000
END:DAYLIGHT
BEGIN:STANDARD
TZOFFSETFROM:-0500
TZOFFSETTO:-0600
TZNAME:CST
DTSTART:20241103T070000
END:STANDARD
BEGIN:DAYLIGHT
TZOFFSETFROM:-0600
TZOFFSETTO:-0500
TZNAME:CDT
DTSTART:20250309T080000
END:DAYLIGHT
BEGIN:STANDARD
TZOFFSETFROM:-0500
TZOFFSETTO:-0600
TZNAME:CST
DTSTART:20251102T070000
END:STANDARD
END:VTIMEZONE
BEGIN:VEVENT
DTSTART;TZID=America/Chicago:20240906T173000
DTEND;TZID=America/Chicago:20240906T193000
DTSTAMP:20260422T031110
CREATED:20240828T150617Z
LAST-MODIFIED:20240828T150617Z
UID:21069-1725643800-1725651000@folkandroots.org
SUMMARY:20th Annual Meadowbrook Park Jazz Walk
DESCRIPTION:Join us for live\, local jazz music during this sunset event brought to you by the Urbana Park District\, Clark-Lindsey\, Health Alliance\, and the Urbana Parks Foundation. A selection of jazz soloists and small combos will be scattered along the paths of Meadowbrook Park; you can listen to as many as you like as you walk at your own pace through the Garden.
URL:https://folkandroots.org/event/20th-annual-meadowbrook-park-jazz-walk/
LOCATION:Meadowbrook Park\, 2808 S Race St\, Urbana\, IL\, 61802\, United States
CATEGORIES:Jazz
END:VEVENT
BEGIN:VEVENT
DTSTART;TZID=America/Chicago:20240905T190000
DTEND;TZID=America/Chicago:20240905T210000
DTSTAMP:20260422T031110
CREATED:20240828T111500Z
LAST-MODIFIED:20240828T111500Z
UID:21026-1725562800-1725570000@folkandroots.org
SUMMARY:Old-Time Jam
DESCRIPTION:
URL:https://folkandroots.org/event/old-time-jam-22/
LOCATION:Lincoln Square Mall\, 201 Lincoln Square\, Urbana\, IL\, 61801\, United States
CATEGORIES:Old-Time Music
END:VEVENT
BEGIN:VEVENT
DTSTART;TZID=America/Chicago:20240903T193000
DTEND;TZID=America/Chicago:20240903T213000
DTSTAMP:20260422T031110
CREATED:20240828T110646Z
LAST-MODIFIED:20240828T110906Z
UID:21016-1725391800-1725399000@folkandroots.org
SUMMARY:International Folk Dance
DESCRIPTION:Explore dances from around the world.\nBeginners welcome!
URL:https://folkandroots.org/event/international-folk-dance-22/
LOCATION:UU Church of Urbana-Champaign\, 309 W Green St\, Urbana\, 61801\, United States
CATEGORIES:International Folk Dance
ORGANIZER;CN="Urbana Folkdance Organization":MAILTO:bonnythiel@yahoo.com
END:VEVENT
BEGIN:VEVENT
DTSTART;TZID=America/Chicago:20240829T190000
DTEND;TZID=America/Chicago:20240829T210000
DTSTAMP:20260422T031110
CREATED:20240725T100518Z
LAST-MODIFIED:20240725T100518Z
UID:20907-1724958000-1724965200@folkandroots.org
SUMMARY:Old-Time Jam
DESCRIPTION:
URL:https://folkandroots.org/event/old-time-jam-21/
LOCATION:Lincoln Square Mall\, 201 Lincoln Square\, Urbana\, IL\, 61801\, United States
CATEGORIES:Old-Time Music
END:VEVENT
BEGIN:VEVENT
DTSTART;TZID=America/Chicago:20240827T193000
DTEND;TZID=America/Chicago:20240827T213000
DTSTAMP:20260422T031110
CREATED:20240725T101729Z
LAST-MODIFIED:20240725T101729Z
UID:20920-1724787000-1724794200@folkandroots.org
SUMMARY:International Folk Dance
DESCRIPTION:Beginners welcome!
URL:https://folkandroots.org/event/international-folk-dance-21/
LOCATION:UU Church of Urbana-Champaign\, 309 W Green St\, Urbana\, 61801\, United States
CATEGORIES:International Folk Dance
ORGANIZER;CN="Urbana Folkdance Organization":MAILTO:bonnythiel@yahoo.com
END:VEVENT
BEGIN:VEVENT
DTSTART;TZID=America/Chicago:20240822T190000
DTEND;TZID=America/Chicago:20240822T210000
DTSTAMP:20260422T031110
CREATED:20240725T100432Z
LAST-MODIFIED:20240725T100432Z
UID:20905-1724353200-1724360400@folkandroots.org
SUMMARY:Old-Time Jam
DESCRIPTION:
URL:https://folkandroots.org/event/old-time-jam-20/
LOCATION:Lincoln Square Mall\, 201 Lincoln Square\, Urbana\, IL\, 61801\, United States
CATEGORIES:Old-Time Music
END:VEVENT
BEGIN:VEVENT
DTSTART;TZID=America/Chicago:20240820T193000
DTEND;TZID=America/Chicago:20240820T213000
DTSTAMP:20260422T031110
CREATED:20240725T101634Z
LAST-MODIFIED:20240725T101634Z
UID:20918-1724182200-1724189400@folkandroots.org
SUMMARY:International Folk Dance
DESCRIPTION:Beginners welcome!
URL:https://folkandroots.org/event/international-folk-dance-20/
LOCATION:UU Church of Urbana-Champaign\, 309 W Green St\, Urbana\, 61801\, United States
CATEGORIES:International Folk Dance
ORGANIZER;CN="Urbana Folkdance Organization":MAILTO:bonnythiel@yahoo.com
END:VEVENT
BEGIN:VEVENT
DTSTART;TZID=America/Chicago:20240816T193000
DTEND;TZID=America/Chicago:20240816T230000
DTSTAMP:20260422T031110
CREATED:20240425T054236Z
LAST-MODIFIED:20240425T054236Z
UID:20777-1723836600-1723849200@folkandroots.org
SUMMARY:Contra Dance!
DESCRIPTION:Band: Dangerous Contraband \nCaller: Jonathan Sivier \n7:30p Free Contra Dance Lesson
URL:https://folkandroots.org/event/contra-dance-8/
LOCATION:Channing-Murray Foundation\, 1209 W Oregon St\, Urbana\, IL\, 61801\, United States
CATEGORIES:Contra Dance
ORGANIZER;CN="Urbana Country Dancers":MAILTO:lewart3@gmail.com
END:VEVENT
BEGIN:VEVENT
DTSTART;TZID=America/Chicago:20240815T190000
DTEND;TZID=America/Chicago:20240815T210000
DTSTAMP:20260422T031110
CREATED:20240725T100327Z
LAST-MODIFIED:20240725T100327Z
UID:20903-1723748400-1723755600@folkandroots.org
SUMMARY:Old-Time Jam
DESCRIPTION:
URL:https://folkandroots.org/event/old-time-jam-19/
LOCATION:Lincoln Square Mall\, 201 Lincoln Square\, Urbana\, IL\, 61801\, United States
CATEGORIES:Old-Time Music
END:VEVENT
BEGIN:VEVENT
DTSTART;TZID=America/Chicago:20240813T193000
DTEND;TZID=America/Chicago:20240813T213000
DTSTAMP:20260422T031110
CREATED:20240725T101145Z
LAST-MODIFIED:20240725T101312Z
UID:20912-1723577400-1723584600@folkandroots.org
SUMMARY:International Folk Dance
DESCRIPTION:Beginners welcome!
URL:https://folkandroots.org/event/international-folk-dance-19/
LOCATION:UU Church of Urbana-Champaign\, 309 W Green St\, Urbana\, 61801\, United States
CATEGORIES:International Folk Dance
ORGANIZER;CN="Urbana Folkdance Organization":MAILTO:bonnythiel@yahoo.com
END:VEVENT
BEGIN:VEVENT
DTSTART;TZID=America/Chicago:20240811T160000
DTEND;TZID=America/Chicago:20240811T180000
DTSTAMP:20260422T031110
CREATED:20240725T102413Z
LAST-MODIFIED:20240725T102555Z
UID:20924-1723392000-1723399200@folkandroots.org
SUMMARY:Occasional Cajun Band
DESCRIPTION:The Occasional Cajun Band plays a mix of traditional Cajun\, Creole and Zydeco music. The band performs music found in the dancehalls (and at festivals) in southwest Louisiana including lively two-steps\, soulful waltzes\, and get-down Zydeco. We hope that you’ll want to dance. Musical influences include the Balfa Brothers\, Boozoo Chavis\, Bois Sec Ardoin\, Canray Fontenot\, Preston Frank\, and Steve Riley and the Mamou Playboys.Based in Urbana\, the lineup includes Matt Turino (fiddle) Rob Krumm (accordion)\, Charlie Harris (bass)\, Sam Payne (guitar)\, and Dave Pride (drums)
URL:https://folkandroots.org/event/occasional-cajun-band-3/
LOCATION:Rose Bowl Tavern\, 106 N Race St\, Urbana\, IL\, 61801\, United States
CATEGORIES:Cajun
END:VEVENT
BEGIN:VEVENT
DTSTART;TZID=America/Chicago:20240811T140000
DTEND;TZID=America/Chicago:20240811T170000
DTSTAMP:20260422T031110
CREATED:20240531T042403Z
LAST-MODIFIED:20240531T042403Z
UID:20813-1723384800-1723395600@folkandroots.org
SUMMARY:English Country Dance
DESCRIPTION:
URL:https://folkandroots.org/event/english-country-dance-5/
LOCATION:Mansfield United Methodist Church\, 200 E Illinois St\, Mansfield\, IL\, 61854\, United States
CATEGORIES:English Country Dance
ORGANIZER;CN="Urbana Folkdance Organization":MAILTO:bonnythiel@yahoo.com
END:VEVENT
BEGIN:VEVENT
DTSTART;TZID=America/Chicago:20240808T190000
DTEND;TZID=America/Chicago:20240808T210000
DTSTAMP:20260422T031110
CREATED:20240725T100249Z
LAST-MODIFIED:20240725T100249Z
UID:20901-1723143600-1723150800@folkandroots.org
SUMMARY:Old-Time Jam
DESCRIPTION:
URL:https://folkandroots.org/event/old-time-jam-18/
LOCATION:Lincoln Square Mall\, 201 Lincoln Square\, Urbana\, IL\, 61801\, United States
CATEGORIES:Old-Time Music
END:VEVENT
BEGIN:VEVENT
DTSTART;TZID=America/Chicago:20240806T193000
DTEND;TZID=America/Chicago:20240806T213000
DTSTAMP:20260422T031110
CREATED:20240725T100945Z
LAST-MODIFIED:20240725T101455Z
UID:20909-1722972600-1722979800@folkandroots.org
SUMMARY:International Folk Dance
DESCRIPTION:Beginners welcome!
URL:https://folkandroots.org/event/international-folk-dance-15/
LOCATION:UU Church of Urbana-Champaign\, 309 W Green St\, Urbana\, 61801\, United States
CATEGORIES:International Folk Dance
ORGANIZER;CN="Urbana Folkdance Organization":MAILTO:bonnythiel@yahoo.com
END:VEVENT
BEGIN:VEVENT
DTSTART;TZID=America/Chicago:20240804T160000
DTEND;TZID=America/Chicago:20240804T180000
DTSTAMP:20260422T031110
CREATED:20240725T102219Z
LAST-MODIFIED:20240725T102219Z
UID:20922-1722787200-1722794400@folkandroots.org
SUMMARY:Shtrunes Klezmer Duo
DESCRIPTION:Frances and Cody of Papashoy Klezmer Band go old-school klezmer with a selection of traditional tunes played on fiddle and tsimbl (cimbalom). Party like it’s 1875!
URL:https://folkandroots.org/event/shtrunes-klezmer-duo/
LOCATION:Rose Bowl Tavern\, 106 N Race St\, Urbana\, IL\, 61801\, United States
CATEGORIES:Klezmer
END:VEVENT
BEGIN:VEVENT
DTSTART;TZID=America/Chicago:20240802T193000
DTEND;TZID=America/Chicago:20240802T230000
DTSTAMP:20260422T031110
CREATED:20240425T054043Z
LAST-MODIFIED:20240802T162058Z
UID:20775-1722627000-1722639600@folkandroots.org
SUMMARY:Contra Dance!
DESCRIPTION:Band: Brenda & Friends – BFF Edition (Brenda’s Female Friends) \nCaller: Qwill Duvall (Chicago) \n7:30p Free Contra Dance Lesson
URL:https://folkandroots.org/event/contra-dance-7/
LOCATION:Phillips Recreation Center\, 505 W Stoughton St\, Urbana\, IL\, 61801\, United States
CATEGORIES:Contra Dance
ORGANIZER;CN="Urbana Country Dancers":MAILTO:lewart3@gmail.com
END:VEVENT
BEGIN:VEVENT
DTSTART;TZID=America/Chicago:20240801T190000
DTEND;TZID=America/Chicago:20240801T210000
DTSTAMP:20260422T031110
CREATED:20240725T100134Z
LAST-MODIFIED:20240725T100134Z
UID:20899-1722538800-1722546000@folkandroots.org
SUMMARY:Old-Time Jam
DESCRIPTION:
URL:https://folkandroots.org/event/old-time-jam-17/
LOCATION:Lincoln Square Mall\, 201 Lincoln Square\, Urbana\, IL\, 61801\, United States
CATEGORIES:Old-Time Music
END:VEVENT
BEGIN:VEVENT
DTSTART;TZID=America/Chicago:20240730T193000
DTEND;TZID=America/Chicago:20240730T213000
DTSTAMP:20260422T031110
CREATED:20240606T060343Z
LAST-MODIFIED:20240725T101421Z
UID:20824-1722367800-1722375000@folkandroots.org
SUMMARY:International Folk Dance
DESCRIPTION:Beginners welcome!
URL:https://folkandroots.org/event/international-folk-dance-18/
LOCATION:UU Church of Urbana-Champaign\, 309 W Green St\, Urbana\, 61801\, United States
CATEGORIES:International Folk Dance
ORGANIZER;CN="Urbana Folkdance Organization":MAILTO:bonnythiel@yahoo.com
END:VEVENT
BEGIN:VEVENT
DTSTART;TZID=America/Chicago:20240729T173000
DTEND;TZID=America/Chicago:20240729T193000
DTSTAMP:20260422T031110
CREATED:20240606T073920Z
LAST-MODIFIED:20240606T075800Z
UID:20836-1722274200-1722281400@folkandroots.org
SUMMARY:Lone Piñon
DESCRIPTION:Lone Piñon is a New Mexican string band\, or “orquesta típica”\, whose music celebrates the integrity and diversity of their region’s cultural roots. With fiddles\, upright bass\, guitars\, accordions\, vihuela\, and bilingual vocals\, they play a wide spectrum of the traditional music that is at home in New Mexico. \nThe Norte has long been a crossroads of cultures\, and centuries of intersecting histories\, trade routes\, migrations\, and cultural movements have endowed the region with an expansive and rich musical heritage that weaves together Spanish\, Mexican\, Indigenous\, European immigrant\, Anglo-American\, and Afro-American musical influences. The oldest strands of this tradition have survived in continuity\, renewed by each new generation’s contribution to core style and repertoire that has been passed from musician to musician\, in some cases over many centuries.  Though rapid cultural change since the ‘50s has led to these sounds becoming scarce in their home territory\, they never fully disappeared–thanks to the elders and past generations that lovingly and tenaciously carried them forward\, renewing the voice of their musical ancestors at each step into changing circumstances. \nThe musicians of Lone Piñon learned from elder musicians who instilled in them a respect for continuity and an example of the radicalism\, creativity\, and cross-cultural solidarity that has always been necessary for musical traditions to adapt and thrive in each generation.  In 2014\, Lone Piñon was founded as a platform for creativity around the oldest sounds of traditional New Mexico string music\, sounds that had all but disappeared from daily life in many Northern New Mexico communities.  Through relationship with elders\, study of field recordings\, connections to parallel traditional music and dance revitalization movements in the US and Mexico\, and hundreds of local and national performances\, they have brought the language of the New Mexico orquesta típica back onto the modern stage\, back onto dance floors\, into a contemporary aesthetic/artistic conversation\, and into the ears of a young generation. \nThe musical landscape of Northern New Mexico bears the record of interconnecting musical movements that cross state\, national\, generational\, and ethnic borders. Lone Piñon’s active and recorded repertoire reflects that complexity\, and has included a wide range of regionally-relevant material (Western swing\, conjunto\, New Mexican Spanish and Mexican ranchera\, Central Mexican son regional\, country\, onda chicana\, etc.) around the core New Mexican violin and accordion-driven polkas\, cunas\, inditas\, valses\, and chotes learned from elders.
URL:https://folkandroots.org/event/lone-pinon/
LOCATION:Rose Bowl Tavern\, 106 N Race St\, Urbana\, IL\, 61801\, United States
END:VEVENT
BEGIN:VEVENT
DTSTART;TZID=America/Chicago:20240727T200000
DTEND;TZID=America/Chicago:20240727T235900
DTSTAMP:20260422T031110
CREATED:20240725T032418Z
LAST-MODIFIED:20240725T032418Z
UID:20897-1722110400-1722124740@folkandroots.org
SUMMARY:Gala Milonga
DESCRIPTION:Our grand finale event of the 2024 Tanguero Workshop for Musicians\, this tango social dance is open to the public and features live tango music performed by our workshop participants and faculty.
URL:https://folkandroots.org/event/gala-milonga/
LOCATION:Urbana-Champaign Independent Media Center\, 202 S Broadway Ave\, Urbana\, IL\, 6180\, United States
CATEGORIES:Tango
END:VEVENT
BEGIN:VEVENT
DTSTART;TZID=America/Chicago:20240727T150000
DTEND;TZID=America/Chicago:20240727T154500
DTSTAMP:20260422T031110
CREATED:20240712T064827Z
LAST-MODIFIED:20240727T182635Z
UID:20869-1722092400-1722095100@folkandroots.org
SUMMARY:Little Miss Ann | Live Music for Kids! // CANCELLED
DESCRIPTION:Due to illness this event has been cancelled.
URL:https://folkandroots.org/event/little-miss-ann-live-music-for-kids/
LOCATION:Champaign Public Library\, 200 W Green St\, Champaign\, IL\, 61820\, United States
END:VEVENT
BEGIN:VEVENT
DTSTART;TZID=America/Chicago:20240726T200000
DTEND;TZID=America/Chicago:20240726T220000
DTSTAMP:20260422T031110
CREATED:20240725T032151Z
LAST-MODIFIED:20240726T211005Z
UID:20895-1722024000-1722031200@folkandroots.org
SUMMARY:Gala Concert with Tanguero Workshop Musicians
DESCRIPTION:Witness over 30 tango musicians performing repertoire coached by some of the world’s most renowned tango musicians. This concert features six participant tango ensembles performing as the culmination of the their work at the Tanguero Workshop 2024.
URL:https://folkandroots.org/event/gala-concert-with-tanguero-workshop-musicians/
LOCATION:Urbana-Champaign Independent Media Center\, 202 S Broadway Ave\, Urbana\, IL\, 6180\, United States
CATEGORIES:Tango
END:VEVENT
BEGIN:VEVENT
DTSTART;TZID=America/Chicago:20240726T190000
DTEND;TZID=America/Chicago:20240726T203000
DTSTAMP:20260422T031110
CREATED:20240724T191633Z
LAST-MODIFIED:20240724T191756Z
UID:20889-1722020400-1722025800@folkandroots.org
SUMMARY:Legendary Cowboy Singer Bob Bovee
DESCRIPTION:Authentic cowboy songs\, ballads. blues\, ragtime\, square dance tunes. sentimental songs. novelty numbers\, yodels\,\n& tin pan alley favorites. \nSince 1971 Bob has traveled the country taking old time music to audiences of all ages at festivals\, fairs\, concerts\, dances\, schools\, libraries\, music camps\, radio and TV programs. This is rural music as played in homes\, at dances and for earlier entertainments such as minstrel shows and country radio. \nAlong with a repertoire including dance tunes\, ballads\, cowboy songs\, humorous and sentimental numbers\, blues and rags\, he spices their shows with stories\, history and folklore. Bob sings (yodels\, too) and plays guitar\, harmonica\, banjo and autoharp.
URL:https://folkandroots.org/event/legendary-cowboy-singer-bob-bovee/
LOCATION:Techline Studio\, 307 S Locust St\, Champaign\, IL\, 61820\, United States
END:VEVENT
BEGIN:VEVENT
DTSTART;TZID=America/Chicago:20240725T190000
DTEND;TZID=America/Chicago:20240725T210000
DTSTAMP:20260422T031110
CREATED:20240606T075730Z
LAST-MODIFIED:20240606T075730Z
UID:20851-1721934000-1721941200@folkandroots.org
SUMMARY:Old-Time Jam
DESCRIPTION:
URL:https://folkandroots.org/event/old-time-jam-16/
LOCATION:Lincoln Square Mall\, 201 Lincoln Square\, Urbana\, IL\, 61801\, United States
CATEGORIES:Old-Time Music
END:VEVENT
BEGIN:VEVENT
DTSTART;TZID=America/Chicago:20240723T200000
DTEND;TZID=America/Chicago:20240723T220000
DTSTAMP:20260422T031110
CREATED:20240725T031915Z
LAST-MODIFIED:20240725T031915Z
UID:20892-1721764800-1721772000@folkandroots.org
SUMMARY:Tanguero Workshop For Musicians Faculty & Guest Showcase
DESCRIPTION:An evening of electrifying tango music performed by the incredible faculty of the 2024 Tanguero Workshop for Musicians\, joined by additional guest artists.
URL:https://folkandroots.org/event/tanguero-workshop-for-musicians-faculty-guest-showcase/
LOCATION:Rose Bowl Tavern\, 106 N Race St\, Urbana\, IL\, 61801\, United States
CATEGORIES:Tango
END:VEVENT
BEGIN:VEVENT
DTSTART;TZID=America/Chicago:20240723T193000
DTEND;TZID=America/Chicago:20240723T213000
DTSTAMP:20260422T031110
CREATED:20240606T060251Z
LAST-MODIFIED:20240606T060251Z
UID:20822-1721763000-1721770200@folkandroots.org
SUMMARY:International Folk Dance
DESCRIPTION:
URL:https://folkandroots.org/event/international-folk-dance-17/
LOCATION:UU Church of Urbana-Champaign\, 309 W Green St\, Urbana\, 61801\, United States
CATEGORIES:International Folk Dance
ORGANIZER;CN="Urbana Folkdance Organization":MAILTO:bonnythiel@yahoo.com
END:VEVENT
BEGIN:VEVENT
DTSTART;TZID=America/Chicago:20240719T193000
DTEND;TZID=America/Chicago:20240719T230000
DTSTAMP:20260422T031110
CREATED:20240425T053657Z
LAST-MODIFIED:20240425T053657Z
UID:20773-1721417400-1721430000@folkandroots.org
SUMMARY:Contra Dance!
DESCRIPTION:Band: Acoustic Mayhem \nCaller: Keith Tuxhorn \n7:30p Free Contra Dance Lesson
URL:https://folkandroots.org/event/contra-dance-6/
LOCATION:Channing-Murray Foundation\, 1209 W Oregon St\, Urbana\, IL\, 61801\, United States
CATEGORIES:Contra Dance
ORGANIZER;CN="Urbana Country Dancers":MAILTO:lewart3@gmail.com
END:VEVENT
BEGIN:VEVENT
DTSTART;TZID=America/Chicago:20240718T190000
DTEND;TZID=America/Chicago:20240718T210000
DTSTAMP:20260422T031110
CREATED:20240606T075218Z
LAST-MODIFIED:20240606T075529Z
UID:20849-1721329200-1721336400@folkandroots.org
SUMMARY:Old-Time Jam
DESCRIPTION:
URL:https://folkandroots.org/event/old-time-jam-15/
LOCATION:Lincoln Square Mall\, 201 Lincoln Square\, Urbana\, IL\, 61801\, United States
CATEGORIES:Old-Time Music
END:VEVENT
BEGIN:VEVENT
DTSTART;TZID=America/Chicago:20240716T193000
DTEND;TZID=America/Chicago:20240716T213000
DTSTAMP:20260422T031110
CREATED:20240606T060200Z
LAST-MODIFIED:20240606T060200Z
UID:20820-1721158200-1721165400@folkandroots.org
SUMMARY:International Folk Dance
DESCRIPTION:
URL:https://folkandroots.org/event/international-folk-dance-16/
LOCATION:UU Church of Urbana-Champaign\, 309 W Green St\, Urbana\, 61801\, United States
CATEGORIES:International Folk Dance
ORGANIZER;CN="Urbana Folkdance Organization":MAILTO:bonnythiel@yahoo.com
END:VEVENT
BEGIN:VEVENT
DTSTART;TZID=America/Chicago:20240714T160000
DTEND;TZID=America/Chicago:20240714T180000
DTSTAMP:20260422T031110
CREATED:20240606T073610Z
LAST-MODIFIED:20240711T132701Z
UID:20834-1720972800-1720980000@folkandroots.org
SUMMARY:Occasional Cajun Band ft. Tom Martin
DESCRIPTION:Dear friends and music lovers\, \nPlease join the Occasional Cajun Band for our gig at the Rose Bowl. That will be this coming Sunday\, July 14 from 4:00 to 6:00PM.  We’ll be featuring our special guest Tom Martin. Here is a brief bio about Tom.  \nFrom St. Louis\, multi-instrumentalist Tom Martin plays piano\, button accordion\, and piano accordion. He’s currently a member of the Southside Creole Playboys\, a band that plays traditional Cajun and Creole music in the St. Louis area. From about 1995 to 2010\, Tom was a member of Gumbohead and they played a terrific mix of Cajun\, Zydeco and tunes from many New Orleans-based bands. Tom’s influences include Professor Longhair\, Marcia Ball\, Boozoo Chavis\, Steve Riley and others.   \nSo at the gig on July 14\, expect a big mix of Cajun and Zydeco tunes as usual but we will be asking Tom to play some straight-up New Orleans piano classics.  This should be fun and I hope to see some of you there. \nRob
URL:https://folkandroots.org/event/occasional-cajun-band-ft-tom-martin/
LOCATION:Rose Bowl Tavern\, 106 N Race St\, Urbana\, IL\, 61801\, United States
CATEGORIES:Cajun
END:VEVENT
END:VCALENDAR