BEGIN:VCALENDAR
VERSION:2.0
PRODID:-//CU Folk &amp; Roots - ECPv6.15.20//NONSGML v1.0//EN
CALSCALE:GREGORIAN
METHOD:PUBLISH
X-WR-CALNAME:CU Folk &amp; Roots
X-ORIGINAL-URL:https://folkandroots.org
X-WR-CALDESC:Events for CU Folk &amp; Roots
REFRESH-INTERVAL;VALUE=DURATION:PT1H
X-Robots-Tag:noindex
X-PUBLISHED-TTL:PT1H
BEGIN:VTIMEZONE
TZID:America/Chicago
BEGIN:DAYLIGHT
TZOFFSETFROM:-0600
TZOFFSETTO:-0500
TZNAME:CDT
DTSTART:20230312T080000
END:DAYLIGHT
BEGIN:STANDARD
TZOFFSETFROM:-0500
TZOFFSETTO:-0600
TZNAME:CST
DTSTART:20231105T070000
END:STANDARD
BEGIN:DAYLIGHT
TZOFFSETFROM:-0600
TZOFFSETTO:-0500
TZNAME:CDT
DTSTART:20240310T080000
END:DAYLIGHT
BEGIN:STANDARD
TZOFFSETFROM:-0500
TZOFFSETTO:-0600
TZNAME:CST
DTSTART:20241103T070000
END:STANDARD
BEGIN:DAYLIGHT
TZOFFSETFROM:-0600
TZOFFSETTO:-0500
TZNAME:CDT
DTSTART:20250309T080000
END:DAYLIGHT
BEGIN:STANDARD
TZOFFSETFROM:-0500
TZOFFSETTO:-0600
TZNAME:CST
DTSTART:20251102T070000
END:STANDARD
END:VTIMEZONE
BEGIN:VEVENT
DTSTART;TZID=America/Chicago:20241119T193000
DTEND;TZID=America/Chicago:20241119T213000
DTSTAMP:20260421T203245
CREATED:20241015T093923Z
LAST-MODIFIED:20241015T093923Z
UID:21413-1732044600-1732051800@folkandroots.org
SUMMARY:International Folk Dance
DESCRIPTION:Explore dances from around the world. \nBeginners welcome!
URL:https://folkandroots.org/event/international-folk-dance-33/
LOCATION:UU Church of Urbana-Champaign\, 309 W Green St\, Urbana\, 61801\, United States
CATEGORIES:International Folk Dance
ORGANIZER;CN="Urbana Folkdance Organization":MAILTO:bonnythiel@yahoo.com
END:VEVENT
BEGIN:VEVENT
DTSTART;TZID=America/Chicago:20241117T140000
DTEND;TZID=America/Chicago:20241117T170000
DTSTAMP:20260421T203245
CREATED:20240829T054847Z
LAST-MODIFIED:20240829T054847Z
UID:21134-1731852000-1731862800@folkandroots.org
SUMMARY:Scottish Country Dance
DESCRIPTION:
URL:https://folkandroots.org/event/scottish-country-dance-4/
LOCATION:Mansfield United Methodist Church\, 200 E Illinois St\, Mansfield\, IL\, 61854\, United States
CATEGORIES:Scottish Country Dance
END:VEVENT
BEGIN:VEVENT
DTSTART;TZID=America/Chicago:20241115T193000
DTEND;TZID=America/Chicago:20241115T230000
DTSTAMP:20260421T203245
CREATED:20240829T053319Z
LAST-MODIFIED:20240829T053319Z
UID:21123-1731699000-1731711600@folkandroots.org
SUMMARY:Contra Dance!
DESCRIPTION:Band: Acoustic Mayhem \nCaller: Karen Jackson (St Louis) \n7:30 p.m. Intro to Contra Dance
URL:https://folkandroots.org/event/contra-dance-14/
LOCATION:Channing-Murray Foundation\, 1209 W Oregon St\, Urbana\, IL\, 61801\, United States
CATEGORIES:Contra Dance
ORGANIZER;CN="Urbana Country Dancers":MAILTO:lewart3@gmail.com
END:VEVENT
BEGIN:VEVENT
DTSTART;TZID=America/Chicago:20241114T190000
DTEND;TZID=America/Chicago:20241114T210000
DTSTAMP:20260421T203245
CREATED:20241015T094247Z
LAST-MODIFIED:20241015T094247Z
UID:21419-1731610800-1731618000@folkandroots.org
SUMMARY:Old-Time Jam
DESCRIPTION:
URL:https://folkandroots.org/event/old-time-jam-32/
LOCATION:Lincoln Square Mall\, 201 Lincoln Square\, Urbana\, IL\, 61801\, United States
CATEGORIES:Old-Time Music
END:VEVENT
BEGIN:VEVENT
DTSTART;TZID=America/Chicago:20241112T193000
DTEND;TZID=America/Chicago:20241112T213000
DTSTAMP:20260421T203245
CREATED:20241015T093822Z
LAST-MODIFIED:20241015T093822Z
UID:21411-1731439800-1731447000@folkandroots.org
SUMMARY:International Folk Dance
DESCRIPTION:Explore dances from around the world. \nBeginners welcome!
URL:https://folkandroots.org/event/international-folk-dance-32/
LOCATION:UU Church of Urbana-Champaign\, 309 W Green St\, Urbana\, 61801\, United States
CATEGORIES:International Folk Dance
ORGANIZER;CN="Urbana Folkdance Organization":MAILTO:bonnythiel@yahoo.com
END:VEVENT
BEGIN:VEVENT
DTSTART;TZID=America/Chicago:20241110T160000
DTEND;TZID=America/Chicago:20241110T180000
DTSTAMP:20260421T203245
CREATED:20241105T085952Z
LAST-MODIFIED:20241109T045158Z
UID:21428-1731254400-1731261600@folkandroots.org
SUMMARY:Occasional Cajun Band
DESCRIPTION:The Occasional Cajun Band “Second Sunday” show at the Rose Bowl will be this Sunday\, Nov. 10. \nWe’ll be playing (inside\, as the tent was taken down) from 4:00 to 6:00PM and our special guest this month will be local fiddler Claire Johnson.\nSome of you will know Claire from Meadowhawk\, the Turino Family Band\, and other local bands. A tremendous fiddle player\, it is always really fun to have twin fiddles. \nBesides Claire\, we’ll also have Sean Kutzko behind the drum kit. So come on out if you can. \nThanks\,\nRob
URL:https://folkandroots.org/event/occasional-cajun-band-5/
LOCATION:Rose Bowl Tavern\, 106 N Race St\, Urbana\, IL\, 61801\, United States
CATEGORIES:Cajun
END:VEVENT
BEGIN:VEVENT
DTSTART;TZID=America/Chicago:20241110T140000
DTEND;TZID=America/Chicago:20241110T170000
DTSTAMP:20260421T203245
CREATED:20240829T054659Z
LAST-MODIFIED:20240829T054659Z
UID:21132-1731247200-1731258000@folkandroots.org
SUMMARY:English Country Dance
DESCRIPTION:
URL:https://folkandroots.org/event/english-country-dance-7/
LOCATION:Mansfield United Methodist Church\, 200 E Illinois St\, Mansfield\, IL\, 61854\, United States
CATEGORIES:English Country Dance
END:VEVENT
BEGIN:VEVENT
DTSTART;TZID=America/Chicago:20241107T190000
DTEND;TZID=America/Chicago:20241107T210000
DTSTAMP:20260421T203245
CREATED:20241015T094204Z
LAST-MODIFIED:20241015T094204Z
UID:21417-1731006000-1731013200@folkandroots.org
SUMMARY:Old-Time Jam
DESCRIPTION:
URL:https://folkandroots.org/event/old-time-jam-31/
LOCATION:Lincoln Square Mall\, 201 Lincoln Square\, Urbana\, IL\, 61801\, United States
CATEGORIES:Old-Time Music
END:VEVENT
BEGIN:VEVENT
DTSTART;TZID=America/Chicago:20241105T193000
DTEND;TZID=America/Chicago:20241105T213000
DTSTAMP:20260421T203245
CREATED:20241015T093727Z
LAST-MODIFIED:20241015T093727Z
UID:21409-1730835000-1730842200@folkandroots.org
SUMMARY:International Folk Dance
DESCRIPTION:Explore dances from around the world. \nBeginners welcome!
URL:https://folkandroots.org/event/international-folk-dance-31/
LOCATION:UU Church of Urbana-Champaign\, 309 W Green St\, Urbana\, 61801\, United States
CATEGORIES:International Folk Dance
ORGANIZER;CN="Urbana Folkdance Organization":MAILTO:bonnythiel@yahoo.com
END:VEVENT
BEGIN:VEVENT
DTSTART;TZID=America/Chicago:20241102T150000
DTEND;TZID=America/Chicago:20241102T170000
DTSTAMP:20260421T203245
CREATED:20241101T211116Z
LAST-MODIFIED:20241101T211116Z
UID:21424-1730559600-1730566800@folkandroots.org
SUMMARY:Fiddle Tune Workshop & Concert
DESCRIPTION:Charlie Walden and Aaron Albrecht will present a fiddle tune workshop and concert. The event is the culmination of their participation in the 2024 Illinois Arts Council’s Master-Apprentice Program for folk arts. \nIn the workshop Charlie and Aaron will teach a hoe-down and a waltz with Midwestern origins. They’ll also answer questions about technique\, improving your overall sound and anything else you want to throw at them. Teaching will be “by ear”\, but notation will be available at the end of the workshop. Fiddles\, mandolins\, banjo\, accordions and other old-time melody instruments are welcome. \nThe concert will consist of a batch of midwestern favorites they’ve been working on during their apprenticeship. They’ll be accompanied on piano by Patt Plunkett. \nThe workshop will start at the 3:00 PM. The concert will begin at 4:00 PM. \nThere will be a free-will donation at the door.\nThe workshop will be available afterwards at patreon.com/charliewalden. The concert will be recorded for rebroadcast at youtube.com/charliewalden.
URL:https://folkandroots.org/event/fiddle-tune-workshop-concert/
LOCATION:C4A\, 202 W Main St\, Urbana\, IL\, 61801\, United States
CATEGORIES:Old-Time Music
ORGANIZER;CN="C4A":MAILTO:info@c-4a.org
END:VEVENT
BEGIN:VEVENT
DTSTART;TZID=America/Chicago:20241101T193000
DTEND;TZID=America/Chicago:20241101T230000
DTSTAMP:20260421T203245
CREATED:20240829T053038Z
LAST-MODIFIED:20241015T090520Z
UID:21121-1730489400-1730502000@folkandroots.org
SUMMARY:Contra Dance!
DESCRIPTION:Band: Pied! (Charlie Walden\, Robin Kearton\, Tom Faux & Patt Plunkett)  \nCaller: Keith Tuxhorn (Springfield\, IL) \n7:30 p.m. Intro to Contra Dance
URL:https://folkandroots.org/event/contra-dance-13/
LOCATION:Phillips Recreation Center\, 505 W Stoughton St\, Urbana\, IL\, 61801\, United States
CATEGORIES:Contra Dance
ORGANIZER;CN="Urbana Country Dancers":MAILTO:lewart3@gmail.com
END:VEVENT
BEGIN:VEVENT
DTSTART;TZID=America/Chicago:20241031T190000
DTEND;TZID=America/Chicago:20241031T210000
DTSTAMP:20260421T203245
CREATED:20240829T060123Z
LAST-MODIFIED:20240829T060123Z
UID:21157-1730401200-1730408400@folkandroots.org
SUMMARY:Old-Time Jam
DESCRIPTION:
URL:https://folkandroots.org/event/old-time-jam-30/
LOCATION:Lincoln Square Mall\, 201 Lincoln Square\, Urbana\, IL\, 61801\, United States
CATEGORIES:Old-Time Music
END:VEVENT
BEGIN:VEVENT
DTSTART;TZID=America/Chicago:20241029T193000
DTEND;TZID=America/Chicago:20241029T213000
DTSTAMP:20260421T203245
CREATED:20240829T055706Z
LAST-MODIFIED:20240829T055706Z
UID:21147-1730230200-1730237400@folkandroots.org
SUMMARY:International Folk Dance
DESCRIPTION:Explore dances from around the world. \nBeginners welcome!
URL:https://folkandroots.org/event/international-folk-dance-30/
LOCATION:UU Church of Urbana-Champaign\, 309 W Green St\, Urbana\, 61801\, United States
CATEGORIES:International Folk Dance
ORGANIZER;CN="Urbana Folkdance Organization":MAILTO:bonnythiel@yahoo.com
END:VEVENT
BEGIN:VEVENT
DTSTART;TZID=America/Chicago:20241027T160000
DTEND;TZID=America/Chicago:20241027T180000
DTSTAMP:20260421T203245
CREATED:20241015T093015Z
LAST-MODIFIED:20241015T093015Z
UID:21406-1730044800-1730052000@folkandroots.org
SUMMARY:The Young & the Fretless
DESCRIPTION:The Young & the Fretless play at dances\, festivals and local venues in musically vibrant central Illinois. We play rousing old-time Appalachian and Midwestern fiddle tunes and have a penchant for quirky love songs.The band includes: Lyle Koningsberg\, fiddle; Tom Bassett\, banjo; Rolf Pendall\, guitar; Rebecca Grosser\, bass
URL:https://folkandroots.org/event/the-young-the-fretless/
LOCATION:Rose Bowl Tavern\, 106 N Race St\, Urbana\, IL\, 61801\, United States
CATEGORIES:Old-Time Music
END:VEVENT
BEGIN:VEVENT
DTSTART;TZID=America/Chicago:20241027T140000
DTEND;TZID=America/Chicago:20241027T170000
DTSTAMP:20260421T203245
CREATED:20240829T054535Z
LAST-MODIFIED:20240829T054535Z
UID:21130-1730037600-1730048400@folkandroots.org
SUMMARY:Scottish Country Dance
DESCRIPTION:
URL:https://folkandroots.org/event/scottish-country-dance-3/
LOCATION:Mansfield United Methodist Church\, 200 E Illinois St\, Mansfield\, IL\, 61854\, United States
CATEGORIES:Scottish Country Dance
END:VEVENT
BEGIN:VEVENT
DTSTART;TZID=America/Chicago:20241026T150000
DTEND;TZID=America/Chicago:20241026T170000
DTSTAMP:20260421T203245
CREATED:20241015T092730Z
LAST-MODIFIED:20241015T092730Z
UID:21404-1729954800-1729962000@folkandroots.org
SUMMARY:Meadowhawk
DESCRIPTION:Meadowhawk\, featuring Amanda Ramey and Claire Johnson on fiddles and Matt Turino on guitar/percussion/fiddle plays traditional and original tunes fusing many acoustic and dance styles. Consisting of mostly instrumental tunes\, their performances are high energy\, listenable\, danceable\, and always enjoyable. For all ages
URL:https://folkandroots.org/event/meadowhawk-3/
LOCATION:Rose Bowl Tavern\, 106 N Race St\, Urbana\, IL\, 61801\, United States
END:VEVENT
BEGIN:VEVENT
DTSTART;VALUE=DATE:20241025
DTEND;VALUE=DATE:20241028
DTSTAMP:20260421T203245
CREATED:20241015T092419Z
LAST-MODIFIED:20241015T092519Z
UID:21399-1729814400-1730073599@folkandroots.org
SUMMARY:Bubble City Bash
DESCRIPTION:Balboa and Lindy Hop Workshop weekend\nwith Sylvia Sykes
URL:https://folkandroots.org/event/bubble-city-bash/
LOCATION:Illini Union\, 1401 W Green St\, Urbana\, IL\, 61801\, United States
CATEGORIES:Swing Dance
END:VEVENT
BEGIN:VEVENT
DTSTART;TZID=America/Chicago:20241024T190000
DTEND;TZID=America/Chicago:20241024T210000
DTSTAMP:20260421T203245
CREATED:20240829T060049Z
LAST-MODIFIED:20240829T060049Z
UID:21155-1729796400-1729803600@folkandroots.org
SUMMARY:Old-Time Jam
DESCRIPTION:
URL:https://folkandroots.org/event/old-time-jam-29/
LOCATION:Lincoln Square Mall\, 201 Lincoln Square\, Urbana\, IL\, 61801\, United States
CATEGORIES:Old-Time Music
END:VEVENT
BEGIN:VEVENT
DTSTART;TZID=America/Chicago:20241022T193000
DTEND;TZID=America/Chicago:20241022T213000
DTSTAMP:20260421T203245
CREATED:20240829T055611Z
LAST-MODIFIED:20240829T055611Z
UID:21145-1729625400-1729632600@folkandroots.org
SUMMARY:International Folk Dance
DESCRIPTION:Explore dances from around the world. \nBeginners welcome!
URL:https://folkandroots.org/event/international-folk-dance-29/
LOCATION:UU Church of Urbana-Champaign\, 309 W Green St\, Urbana\, 61801\, United States
CATEGORIES:International Folk Dance
ORGANIZER;CN="Urbana Folkdance Organization":MAILTO:bonnythiel@yahoo.com
END:VEVENT
BEGIN:VEVENT
DTSTART;TZID=America/Chicago:20241020T150000
DTEND;TZID=America/Chicago:20241020T170000
DTSTAMP:20260421T203245
CREATED:20241015T091456Z
LAST-MODIFIED:20241015T091456Z
UID:21397-1729436400-1729443600@folkandroots.org
SUMMARY:Papashoy Klezmer Band
DESCRIPTION:Urbana’s Papashoy (corn) plays klezmer music in the style of the village bands of Yiddish Eastern Europe’s own corn country. The original party music!
URL:https://folkandroots.org/event/papashoy-klezmer-band/
LOCATION:IL
CATEGORIES:Klezmer
END:VEVENT
BEGIN:VEVENT
DTSTART;TZID=America/Chicago:20241018T193000
DTEND;TZID=America/Chicago:20241018T230000
DTSTAMP:20260421T203245
CREATED:20240829T052841Z
LAST-MODIFIED:20241015T090717Z
UID:21119-1729279800-1729292400@folkandroots.org
SUMMARY:FREE Contra Dance!
DESCRIPTION:Band: The Young and the Fretless \nCaller: Jonathan Sivier \n7:30 p.m. Intro to Contra Dance
URL:https://folkandroots.org/event/contra-dance-12/
LOCATION:Channing-Murray Foundation\, 1209 W Oregon St\, Urbana\, IL\, 61801\, United States
CATEGORIES:Contra Dance
ORGANIZER;CN="Urbana Country Dancers":MAILTO:lewart3@gmail.com
END:VEVENT
BEGIN:VEVENT
DTSTART;TZID=America/Chicago:20241017T190000
DTEND;TZID=America/Chicago:20241017T210000
DTSTAMP:20260421T203245
CREATED:20240829T060010Z
LAST-MODIFIED:20240829T060010Z
UID:21153-1729191600-1729198800@folkandroots.org
SUMMARY:Old-Time Jam
DESCRIPTION:
URL:https://folkandroots.org/event/old-time-jam-28/
LOCATION:Lincoln Square Mall\, 201 Lincoln Square\, Urbana\, IL\, 61801\, United States
CATEGORIES:Old-Time Music
END:VEVENT
BEGIN:VEVENT
DTSTART;TZID=America/Chicago:20241015T193000
DTEND;TZID=America/Chicago:20241015T213000
DTSTAMP:20260421T203245
CREATED:20240829T055510Z
LAST-MODIFIED:20240829T055510Z
UID:21143-1729020600-1729027800@folkandroots.org
SUMMARY:International Folk Dance
DESCRIPTION:Explore dances from around the world. \nBeginners welcome!
URL:https://folkandroots.org/event/international-folk-dance-28/
LOCATION:UU Church of Urbana-Champaign\, 309 W Green St\, Urbana\, 61801\, United States
CATEGORIES:International Folk Dance
ORGANIZER;CN="Urbana Folkdance Organization":MAILTO:bonnythiel@yahoo.com
END:VEVENT
BEGIN:VEVENT
DTSTART;TZID=America/Chicago:20241013T140000
DTEND;TZID=America/Chicago:20241013T170000
DTSTAMP:20260421T203245
CREATED:20240829T052005Z
LAST-MODIFIED:20240829T054734Z
UID:21115-1728828000-1728838800@folkandroots.org
SUMMARY:English Country Dance
DESCRIPTION:
URL:https://folkandroots.org/event/english-country-dance-6/
LOCATION:Mansfield United Methodist Church\, 200 E Illinois St\, Mansfield\, IL\, 61854\, United States
CATEGORIES:English Country Dance
END:VEVENT
BEGIN:VEVENT
DTSTART;TZID=America/Chicago:20241010T190000
DTEND;TZID=America/Chicago:20241010T210000
DTSTAMP:20260421T203245
CREATED:20240829T055913Z
LAST-MODIFIED:20240829T060210Z
UID:21151-1728586800-1728594000@folkandroots.org
SUMMARY:Old-Time Jam
DESCRIPTION:
URL:https://folkandroots.org/event/old-time-jam-27/
LOCATION:Lincoln Square Mall\, 201 Lincoln Square\, Urbana\, IL\, 61801\, United States
CATEGORIES:Old-Time Music
END:VEVENT
BEGIN:VEVENT
DTSTART;TZID=America/Chicago:20241008T193000
DTEND;TZID=America/Chicago:20241008T213000
DTSTAMP:20260421T203245
CREATED:20240829T055418Z
LAST-MODIFIED:20240829T055418Z
UID:21141-1728415800-1728423000@folkandroots.org
SUMMARY:International Folk Dance
DESCRIPTION:Explore dances from around the world. \nBeginners welcome!
URL:https://folkandroots.org/event/international-folk-dance-27/
LOCATION:UU Church of Urbana-Champaign\, 309 W Green St\, Urbana\, 61801\, United States
CATEGORIES:International Folk Dance
ORGANIZER;CN="Urbana Folkdance Organization":MAILTO:bonnythiel@yahoo.com
END:VEVENT
BEGIN:VEVENT
DTSTART;TZID=America/Chicago:20241005T170000
DTEND;TZID=America/Chicago:20241006T013000
DTSTAMP:20260421T203245
CREATED:20240919T055543Z
LAST-MODIFIED:20240919T060300Z
UID:21311-1728147600-1728178200@folkandroots.org
SUMMARY:CU Folk & Roots Festival
DESCRIPTION:
URL:https://folkandroots.org/event/cu-folk-roots-festival-2024-sat-eve/
LOCATION:Urbana\, IL\, Urbana\, IL\, 61801\, United States
END:VEVENT
BEGIN:VEVENT
DTSTART;TZID=America/Chicago:20241005T140000
DTEND;TZID=America/Chicago:20241005T160000
DTSTAMP:20260421T203245
CREATED:20240919T054103Z
LAST-MODIFIED:20240919T054103Z
UID:21303-1728136800-1728144000@folkandroots.org
SUMMARY:Cajun Jam & Dance
DESCRIPTION:
URL:https://folkandroots.org/event/cajun-jam-dance/
LOCATION:Urbana-Champaign Independent Media Center\, 202 S Broadway Ave\, Urbana\, IL\, 6180\, United States
CATEGORIES:Cajun
END:VEVENT
BEGIN:VEVENT
DTSTART;TZID=America/Chicago:20241005T130000
DTEND;TZID=America/Chicago:20241005T140000
DTSTAMP:20260421T203245
CREATED:20240919T054006Z
LAST-MODIFIED:20240919T054006Z
UID:21301-1728133200-1728136800@folkandroots.org
SUMMARY:Cajun Two Step Workshop with the Turino Family
DESCRIPTION:
URL:https://folkandroots.org/event/cajun-two-step-workshop-with-the-turino-family/
LOCATION:Urbana-Champaign Independent Media Center\, 202 S Broadway Ave\, Urbana\, IL\, 6180\, United States
CATEGORIES:Cajun
END:VEVENT
BEGIN:VEVENT
DTSTART;TZID=America/Chicago:20241005T100000
DTEND;TZID=America/Chicago:20241005T163000
DTSTAMP:20260421T203245
CREATED:20240919T055420Z
LAST-MODIFIED:20240919T060237Z
UID:21309-1728122400-1728145800@folkandroots.org
SUMMARY:CU Folk & Roots Festival
DESCRIPTION:
URL:https://folkandroots.org/event/cu-folk-roots-festival-2024-sat-day/
LOCATION:Urbana\, IL\, Urbana\, IL\, 61801\, United States
END:VEVENT
END:VCALENDAR