BEGIN:VCALENDAR
VERSION:2.0
PRODID:-//CU Folk &amp; Roots - ECPv6.15.20//NONSGML v1.0//EN
CALSCALE:GREGORIAN
METHOD:PUBLISH
X-WR-CALNAME:CU Folk &amp; Roots
X-ORIGINAL-URL:https://folkandroots.org
X-WR-CALDESC:Events for CU Folk &amp; Roots
REFRESH-INTERVAL;VALUE=DURATION:PT1H
X-Robots-Tag:noindex
X-PUBLISHED-TTL:PT1H
BEGIN:VTIMEZONE
TZID:America/Chicago
BEGIN:DAYLIGHT
TZOFFSETFROM:-0600
TZOFFSETTO:-0500
TZNAME:CDT
DTSTART:20230312T080000
END:DAYLIGHT
BEGIN:STANDARD
TZOFFSETFROM:-0500
TZOFFSETTO:-0600
TZNAME:CST
DTSTART:20231105T070000
END:STANDARD
BEGIN:DAYLIGHT
TZOFFSETFROM:-0600
TZOFFSETTO:-0500
TZNAME:CDT
DTSTART:20240310T080000
END:DAYLIGHT
BEGIN:STANDARD
TZOFFSETFROM:-0500
TZOFFSETTO:-0600
TZNAME:CST
DTSTART:20241103T070000
END:STANDARD
BEGIN:DAYLIGHT
TZOFFSETFROM:-0600
TZOFFSETTO:-0500
TZNAME:CDT
DTSTART:20250309T080000
END:DAYLIGHT
BEGIN:STANDARD
TZOFFSETFROM:-0500
TZOFFSETTO:-0600
TZNAME:CST
DTSTART:20251102T070000
END:STANDARD
BEGIN:DAYLIGHT
TZOFFSETFROM:-0600
TZOFFSETTO:-0500
TZNAME:CDT
DTSTART:20260308T080000
END:DAYLIGHT
BEGIN:STANDARD
TZOFFSETFROM:-0500
TZOFFSETTO:-0600
TZNAME:CST
DTSTART:20261101T070000
END:STANDARD
END:VTIMEZONE
BEGIN:VEVENT
DTSTART;TZID=America/Chicago:20250210T180000
DTEND;TZID=America/Chicago:20250210T200000
DTSTAMP:20260420T090915
CREATED:20250127T072343Z
LAST-MODIFIED:20250127T072421Z
UID:21583-1739210400-1739217600@folkandroots.org
SUMMARY:The Farms: Dances of the Gilded Age
DESCRIPTION:In this elegant setting\, instructor Jeanette Watts will teach 1900-era ballroom styles including the waltz and two-step\, reflecting the graceful movements that captivated society early in the 20th century. Perfect for history enthusiasts and dance lovers alike\, this course offers a unique opportunity to experience the elegance and charm of the Gilded Age.
URL:https://folkandroots.org/event/the-farms-dances-of-the-gilded-age-3/
LOCATION:Allerton Mansion\, 515 Old Timber Rd\, Monticello\, IL\, 61856\, United States
CATEGORIES:Vintage Dance
END:VEVENT
BEGIN:VEVENT
DTSTART;TZID=America/Chicago:20250209T150000
DTEND;TZID=America/Chicago:20250209T170000
DTSTAMP:20260420T090915
CREATED:20250115T074805Z
LAST-MODIFIED:20250206T061611Z
UID:21573-1739113200-1739120400@folkandroots.org
SUMMARY:Occasional Cajun Band
DESCRIPTION:Occasional Cajun Band! Every 2nd Sunday of the month! \nThis month with special guest\, Tom Turino on fiddle! \nSuper Bowl Sunday! So this one is 3-5pm\, an hour earlier\, fyi! \nThe Occasional Cajun Band plays a mix of traditional Cajun\, Creole and Zydeco music. The band performs music found in the dancehalls (and at festivals) in southwest Louisiana including lively two-steps\, soulful waltzes\, and get-down Zydeco. We hope that you’ll want to dance. Musical influences include the Balfa Brothers\, Boozoo Chavis\, Bois Sec Ardoin\, Canray Fontenot\, Preston Frank\, and Steve Riley and the Mamou Playboys. Based in Urbana\, the lineup includes Matt Turino (fiddle) Rob Krumm (accordion)\, Charlie Harris (bass)\, Sam Payne (guitar)\, and Dave Pride (drums)
URL:https://folkandroots.org/event/occasional-cajun-band-8/
LOCATION:Rose Bowl Tavern\, 106 N Race St\, Urbana\, IL\, 61801\, United States
CATEGORIES:Cajun
END:VEVENT
BEGIN:VEVENT
DTSTART;TZID=America/Chicago:20250209T140000
DTEND;TZID=America/Chicago:20250209T170000
DTSTAMP:20260420T090915
CREATED:20250106T093238Z
LAST-MODIFIED:20250106T093238Z
UID:21508-1739109600-1739120400@folkandroots.org
SUMMARY:English Country Dance
DESCRIPTION:
URL:https://folkandroots.org/event/english-country-dance-10/
LOCATION:Mansfield United Methodist Church\, 200 E Illinois St\, Mansfield\, IL\, 61854\, United States
CATEGORIES:English Country Dance
END:VEVENT
BEGIN:VEVENT
DTSTART;TZID=America/Chicago:20250209T130000
DTEND;TZID=America/Chicago:20250209T150000
DTSTAMP:20260420T090915
CREATED:20250206T061008Z
LAST-MODIFIED:20250206T061008Z
UID:21615-1739106000-1739113200@folkandroots.org
SUMMARY:Calling Workshop
DESCRIPTION:Learn to call and learn the mechanics of contra dances \nInstruction by Gail Hintze and Miriam Larson
URL:https://folkandroots.org/event/calling-workshop/
LOCATION:Urbana-Champaign Independent Media Center\, 202 S Broadway Ave\, Urbana\, IL\, 6180\, United States
CATEGORIES:Contra Dance
ORGANIZER;CN="Urbana Country Dancers":MAILTO:lewart3@gmail.com
END:VEVENT
BEGIN:VEVENT
DTSTART;TZID=America/Chicago:20250208T120000
DTEND;TZID=America/Chicago:20250208T230000
DTSTAMP:20260420T090915
CREATED:20250115T074516Z
LAST-MODIFIED:20250206T064228Z
UID:21571-1739016000-1739055600@folkandroots.org
SUMMARY:CU Folk and Roots Winter Weekend 2025
DESCRIPTION:CU Folk and Roots Winter Weekend is back for 2025 at the Rose Bowl Tavern! \nFriday February 7th-8th.  \nNo cover!\nAll donations in the bucket go directly to support the 2025 CU Folk and Roots Festival! \n\n12:00pm-1:30pm – CU Irish Session (with Irish Set Dancing)\n1:30-3:00pm – Bluegrass Jam with Charlie\n3:30-4:15pm – CU Mariachi Libertad\n5:00-6:30pm – Turino Family Band\n7:00-8:30pm – Andrew Duncanson’s Acoustic Revue\n9:00pm – Nikki D Brown & The Sisters of Thunder! (Ohio)
URL:https://folkandroots.org/event/cu-folk-and-roots-winter-weekend-2025-sat/
LOCATION:Rose Bowl Tavern\, 106 N Race St\, Urbana\, IL\, 61801\, United States
CATEGORIES:Bluegrass,Blues,Cajun,Irish Set Dancing,Mariachi
END:VEVENT
BEGIN:VEVENT
DTSTART;TZID=America/Chicago:20250207T193000
DTEND;TZID=America/Chicago:20250207T230000
DTSTAMP:20260420T090915
CREATED:20250115T065229Z
LAST-MODIFIED:20250115T065229Z
UID:21530-1738956600-1738969200@folkandroots.org
SUMMARY:Contra Dance!
DESCRIPTION:Band: The Turino Family Band \nCaller: Keith Tuxhorn \n7:30p  FREE Intro to Contra Dance lesson
URL:https://folkandroots.org/event/contra-dance-18/
LOCATION:Phillips Recreation Center\, 505 W Stoughton St\, Urbana\, IL\, 61801\, United States
CATEGORIES:Contra Dance
ORGANIZER;CN="Urbana Country Dancers":MAILTO:lewart3@gmail.com
END:VEVENT
BEGIN:VEVENT
DTSTART;TZID=America/Chicago:20250207T170000
DTEND;TZID=America/Chicago:20250207T230000
DTSTAMP:20260420T090915
CREATED:20250115T074239Z
LAST-MODIFIED:20250206T064152Z
UID:21569-1738947600-1738969200@folkandroots.org
SUMMARY:CU Folk and Roots Winter Weekend 2025
DESCRIPTION:CU Folk and Roots Winter Weekend is back for 2025 at the Rose Bowl Tavern! \nAll donations in the bucket go directly to support the 2025 CU Folk and Roots Festival! \nFriday February 7th: \n\n5:00-7:00pm – Jordan Kaye’s Django Wrangle\n8:00-9:00pm – Ernie Dean Hendrickson (Chicago\, IL)\n9:30-11:00pm – Keith Hall & The Creeping Grass
URL:https://folkandroots.org/event/cu-folk-and-roots-winter-weekend-2025-fri/
LOCATION:Rose Bowl Tavern\, 106 N Race St\, Urbana\, IL\, 61801\, United States
END:VEVENT
BEGIN:VEVENT
DTSTART;TZID=America/Chicago:20250206T190000
DTEND;TZID=America/Chicago:20250206T210000
DTSTAMP:20260420T090915
CREATED:20250115T073213Z
LAST-MODIFIED:20250115T073213Z
UID:21559-1738868400-1738875600@folkandroots.org
SUMMARY:Old-Time Jam
DESCRIPTION:
URL:https://folkandroots.org/event/old-time-jam-42/
LOCATION:Lincoln Square Mall\, 201 Lincoln Square\, Urbana\, IL\, 61801\, United States
CATEGORIES:Old-Time Music
END:VEVENT
BEGIN:VEVENT
DTSTART;TZID=America/Chicago:20250204T193000
DTEND;TZID=America/Chicago:20250204T213000
DTSTAMP:20260420T090915
CREATED:20250115T072345Z
LAST-MODIFIED:20250115T072942Z
UID:21551-1738697400-1738704600@folkandroots.org
SUMMARY:International Folk Dance
DESCRIPTION:Explore dances from around the world. \nBeginners welcome!
URL:https://folkandroots.org/event/international-folk-dance-42/
LOCATION:UU Church of Urbana-Champaign\, 309 W Green St\, Urbana\, 61801\, United States
CATEGORIES:International Folk Dance
ORGANIZER;CN="Urbana Folkdance Organization":MAILTO:bonnythiel@yahoo.com
END:VEVENT
BEGIN:VEVENT
DTSTART;TZID=America/Chicago:20250203T180000
DTEND;TZID=America/Chicago:20250203T200000
DTSTAMP:20260420T090915
CREATED:20250127T072233Z
LAST-MODIFIED:20250127T072610Z
UID:21581-1738605600-1738612800@folkandroots.org
SUMMARY:The Farms: Dances of the Gilded Age
DESCRIPTION:In this elegant setting\, instructor Jeanette Watts will teach 1900-era ballroom styles including the waltz and two-step\, reflecting the graceful movements that captivated society early in the 20th century. Perfect for history enthusiasts and dance lovers alike\, this course offers a unique opportunity to experience the elegance and charm of the Gilded Age.
URL:https://folkandroots.org/event/the-farms-dances-of-the-gilded-age-2/
LOCATION:Allerton Mansion\, 515 Old Timber Rd\, Monticello\, IL\, 61856\, United States
CATEGORIES:Vintage Dance
END:VEVENT
BEGIN:VEVENT
DTSTART;TZID=America/Chicago:20250202T190000
DTEND;TZID=America/Chicago:20250202T210000
DTSTAMP:20260420T090915
CREATED:20250115T074010Z
LAST-MODIFIED:20250115T074010Z
UID:21567-1738522800-1738530000@folkandroots.org
SUMMARY:Bandoneon Massacre
DESCRIPTION:Bandoneon Massacre is an Argentine Tango orchestra collective based in Champaign-Urbana\, Illinois. They regularly perform at tango dances and music events.
URL:https://folkandroots.org/event/bandoneon-massacre-2/
LOCATION:Rose Bowl Tavern\, 106 N Race St\, Urbana\, IL\, 61801\, United States
CATEGORIES:Tango
END:VEVENT
BEGIN:VEVENT
DTSTART;TZID=America/Chicago:20250201T150000
DTEND;TZID=America/Chicago:20250201T170000
DTSTAMP:20260420T090915
CREATED:20250115T071415Z
LAST-MODIFIED:20250115T071415Z
UID:21549-1738422000-1738429200@folkandroots.org
SUMMARY:Meadowhawk
DESCRIPTION:Meadowhawk\, featuring Amanda Ramey and Claire Johnson on fiddles and Matt Turino on guitar/percussion/fiddle plays traditional and original tunes fusing many acoustic and dance styles. Consisting of mostly instrumental tunes\, their performances are high energy\, listenable\, danceable\, and always enjoyable. For all ages
URL:https://folkandroots.org/event/meadowhawk-4/
LOCATION:Rose Bowl Tavern\, 106 N Race St\, Urbana\, IL\, 61801\, United States
END:VEVENT
BEGIN:VEVENT
DTSTART;TZID=America/Chicago:20250130T190000
DTEND;TZID=America/Chicago:20250130T210000
DTSTAMP:20260420T090915
CREATED:20250106T092201Z
LAST-MODIFIED:20250106T092201Z
UID:21496-1738263600-1738270800@folkandroots.org
SUMMARY:Old-Time Jam
DESCRIPTION:
URL:https://folkandroots.org/event/old-time-jam-41/
LOCATION:Lincoln Square Mall\, 201 Lincoln Square\, Urbana\, IL\, 61801\, United States
CATEGORIES:Old-Time Music
END:VEVENT
BEGIN:VEVENT
DTSTART;TZID=America/Chicago:20250129T190000
DTEND;TZID=America/Chicago:20250129T210000
DTSTAMP:20260420T090915
CREATED:20250127T073801Z
LAST-MODIFIED:20250127T073801Z
UID:21591-1738177200-1738184400@folkandroots.org
SUMMARY:Irish Set Dancing
DESCRIPTION:Daniel Flora\, who has taught Irish Set Dancing throughout the Midwest\, is organizing the following special event: \n\nTraditional Irish Set Dancing\nWed Jan 29 7-9p\nHound’s Rest (fka Blind Pig)\, 120 N Walnut St\, Champaign\nLive music by Champaign Urbana Irish Session\nAll dances taught by Daniel Flora\n\nIrish set dancing is done in square formations to Irish music. If you enjoy square dancing\, Irish music\, and/or want to try something new\, you should join us. \nTwo Irish Set Dancing videos: \n\n    https://www.youtube.com/watch?v=Vj13osgy2M0\n    https://www.facebook.com/RedHerringVegetarianRestaurant/videos/check-out-these-dance-moves-/828243190557967
URL:https://folkandroots.org/event/irish-set-dancing/
LOCATION:Hound’s Rest\, 120 N Walnut St\, Champaign\, IL\, 61820\, United States
CATEGORIES:Irish Set Dancing
END:VEVENT
BEGIN:VEVENT
DTSTART;TZID=America/Chicago:20250128T193000
DTEND;TZID=America/Chicago:20250128T213000
DTSTAMP:20260420T090915
CREATED:20250115T071201Z
LAST-MODIFIED:20250115T071201Z
UID:21547-1738092600-1738099800@folkandroots.org
SUMMARY:Litvakus
DESCRIPTION:Litvakus is a critically acclaimed New York based klezmer collective\, founded and led by the clarinetist\, vocalist\, and composer Zisl Slepovitch. It is the first group to focus almost exclusively on the music culture of the Litvak Jews and their neighbors in Slavic and Baltic countries. Litvakus features a uniquely distinct\, regional sound\, a recognizably Jewish idiom\, and high-energy\, “shtetl disco” music\, along with traditional Eastern European Jewish vocals. Litvakus and Zisl Slepovitch have a long history of artistic collaboration with the Berlin-based Yiddish singer Sasha Lurje who will appear in the January 28 concert at Rose Bowl Tavern in Urbana as a guest vocalist and a poyk (drum) player.
URL:https://folkandroots.org/event/litvakus/
LOCATION:Rose Bowl Tavern\, 106 N Race St\, Urbana\, IL\, 61801\, United States
CATEGORIES:Klezmer
END:VEVENT
BEGIN:VEVENT
DTSTART;TZID=America/Chicago:20250128T193000
DTEND;TZID=America/Chicago:20250128T213000
DTSTAMP:20260420T090915
CREATED:20250106T091820Z
LAST-MODIFIED:20250106T091820Z
UID:21488-1738092600-1738099800@folkandroots.org
SUMMARY:International Folk Dance
DESCRIPTION:Explore dances from around the world. \nBeginners welcome!
URL:https://folkandroots.org/event/international-folk-dance-41/
LOCATION:UU Church of Urbana-Champaign\, 309 W Green St\, Urbana\, 61801\, United States
CATEGORIES:International Folk Dance
ORGANIZER;CN="Urbana Folkdance Organization":MAILTO:bonnythiel@yahoo.com
END:VEVENT
BEGIN:VEVENT
DTSTART;TZID=America/Chicago:20250127T180000
DTEND;TZID=America/Chicago:20250127T200000
DTSTAMP:20260420T090915
CREATED:20250127T065844Z
LAST-MODIFIED:20250127T072510Z
UID:21576-1738000800-1738008000@folkandroots.org
SUMMARY:The Farms: Dances of the Gilded Age
DESCRIPTION:In this elegant setting\, instructor Jeanette Watts will teach 1900-era ballroom styles including the waltz and two-step\, reflecting the graceful movements that captivated society early in the 20th century. Perfect for history enthusiasts and dance lovers alike\, this course offers a unique opportunity to experience the elegance and charm of the Gilded Age.
URL:https://folkandroots.org/event/the-farms-dances-of-the-gilded-age-1/
LOCATION:Allerton Mansion\, 515 Old Timber Rd\, Monticello\, IL\, 61856\, United States
CATEGORIES:Vintage Dance
END:VEVENT
BEGIN:VEVENT
DTSTART;TZID=America/Chicago:20250126T140000
DTEND;TZID=America/Chicago:20250126T170000
DTSTAMP:20260420T090915
CREATED:20250106T092957Z
LAST-MODIFIED:20250106T092957Z
UID:21506-1737900000-1737910800@folkandroots.org
SUMMARY:Scottish Country Dance
DESCRIPTION:
URL:https://folkandroots.org/event/scottish-country-dance-5/
LOCATION:Mansfield United Methodist Church\, 200 E Illinois St\, Mansfield\, IL\, 61854\, United States
CATEGORIES:Scottish Country Dance
END:VEVENT
BEGIN:VEVENT
DTSTART;TZID=America/Chicago:20250124T193000
DTEND;TZID=America/Chicago:20250124T230000
DTSTAMP:20260420T090915
CREATED:20250106T092907Z
LAST-MODIFIED:20250115T070456Z
UID:21503-1737747000-1737759600@folkandroots.org
SUMMARY:Contra Dance!
DESCRIPTION:Band: Meadowhawk \nCaller: Miriam Larson \n7:30p  FREE Intro to Contra Dance lesson
URL:https://folkandroots.org/event/contra-dance-17/
LOCATION:Phillips Recreation Center\, 505 W Stoughton St\, Urbana\, IL\, 61801\, United States
CATEGORIES:Contra Dance
ORGANIZER;CN="Urbana Country Dancers":MAILTO:lewart3@gmail.com
END:VEVENT
BEGIN:VEVENT
DTSTART;TZID=America/Chicago:20250123T190000
DTEND;TZID=America/Chicago:20250123T210000
DTSTAMP:20260420T090915
CREATED:20250106T092118Z
LAST-MODIFIED:20250106T092118Z
UID:21494-1737658800-1737666000@folkandroots.org
SUMMARY:Old-Time Jam
DESCRIPTION:
URL:https://folkandroots.org/event/old-time-jam-40/
LOCATION:Lincoln Square Mall\, 201 Lincoln Square\, Urbana\, IL\, 61801\, United States
CATEGORIES:Old-Time Music
END:VEVENT
BEGIN:VEVENT
DTSTART;TZID=America/Chicago:20250121T193000
DTEND;TZID=America/Chicago:20250121T213000
DTSTAMP:20260420T090915
CREATED:20250106T091442Z
LAST-MODIFIED:20250106T091442Z
UID:21486-1737487800-1737495000@folkandroots.org
SUMMARY:International Folk Dance
DESCRIPTION:Explore dances from around the world. \nBeginners welcome!
URL:https://folkandroots.org/event/international-folk-dance-40/
LOCATION:UU Church of Urbana-Champaign\, 309 W Green St\, Urbana\, 61801\, United States
CATEGORIES:International Folk Dance
ORGANIZER;CN="Urbana Folkdance Organization":MAILTO:bonnythiel@yahoo.com
END:VEVENT
BEGIN:VEVENT
DTSTART;TZID=America/Chicago:20250119T140000
DTEND;TZID=America/Chicago:20250119T170000
DTSTAMP:20260420T090915
CREATED:20250106T092745Z
LAST-MODIFIED:20250106T092745Z
UID:21500-1737295200-1737306000@folkandroots.org
SUMMARY:English Country Dance
DESCRIPTION:
URL:https://folkandroots.org/event/english-country-dance-9/
LOCATION:Mansfield United Methodist Church\, 200 E Illinois St\, Mansfield\, IL\, 61854\, United States
CATEGORIES:English Country Dance
END:VEVENT
BEGIN:VEVENT
DTSTART;TZID=America/Chicago:20250116T190000
DTEND;TZID=America/Chicago:20250116T210000
DTSTAMP:20260420T090915
CREATED:20250106T092040Z
LAST-MODIFIED:20250106T092040Z
UID:21492-1737054000-1737061200@folkandroots.org
SUMMARY:Old-Time Jam
DESCRIPTION:
URL:https://folkandroots.org/event/old-time-jam-39/
LOCATION:Lincoln Square Mall\, 201 Lincoln Square\, Urbana\, IL\, 61801\, United States
CATEGORIES:Old-Time Music
END:VEVENT
BEGIN:VEVENT
DTSTART;TZID=America/Chicago:20250114T193000
DTEND;TZID=America/Chicago:20250114T213000
DTSTAMP:20260420T090915
CREATED:20250106T091135Z
LAST-MODIFIED:20250106T091135Z
UID:21484-1736883000-1736890200@folkandroots.org
SUMMARY:International Folk Dance
DESCRIPTION:Explore dances from around the world. \nBeginners welcome!
URL:https://folkandroots.org/event/international-folk-dance-39/
LOCATION:UU Church of Urbana-Champaign\, 309 W Green St\, Urbana\, 61801\, United States
CATEGORIES:International Folk Dance
ORGANIZER;CN="Urbana Folkdance Organization":MAILTO:bonnythiel@yahoo.com
END:VEVENT
BEGIN:VEVENT
DTSTART;TZID=America/Chicago:20250112T160000
DTEND;TZID=America/Chicago:20250112T180000
DTSTAMP:20260420T090915
CREATED:20250106T092624Z
LAST-MODIFIED:20250106T092624Z
UID:21498-1736697600-1736704800@folkandroots.org
SUMMARY:Occasional Cajun Band
DESCRIPTION:The Occasional Cajun Band plays a mix of traditional Cajun\, Creole and Zydeco music. The band performs music found in the dancehalls (and at festivals) in southwest Louisiana including lively two-steps\, soulful waltzes\, and get-down Zydeco. We hope that you’ll want to dance. Musical influences include the Balfa Brothers\, Boozoo Chavis\, Bois Sec Ardoin\, Canray Fontenot\, Preston Frank\, and Steve Riley and the Mamou Playboys.Based in Urbana\, the lineup includes Matt Turino (fiddle) Rob Krumm (accordion)\, Charlie Harris (bass)\, Sam Payne (guitar)\, Dave Pride (drums) and this months special guest Clayton Burke on pedal steel.
URL:https://folkandroots.org/event/occasional-cajun-band-7/
LOCATION:Rose Bowl Tavern\, 106 N Race St\, Urbana\, IL\, 61801\, United States
CATEGORIES:Cajun
END:VEVENT
BEGIN:VEVENT
DTSTART;VALUE=DATE:20250110
DTEND;VALUE=DATE:20250113
DTSTAMP:20260420T090915
CREATED:20250106T085513Z
LAST-MODIFIED:20250106T085513Z
UID:21480-1736467200-1736726399@folkandroots.org
SUMMARY:Jan Jam Contra Dance Weekend
DESCRIPTION:Registration is Closed.\nBut you are welcome to poke your head in to check it out.
URL:https://folkandroots.org/event/jan-jam-contra-dance-weekend/
LOCATION:Phillips Recreation Center\, 505 W Stoughton St\, Urbana\, IL\, 61801\, United States
CATEGORIES:Contra Dance
ORGANIZER;CN="Urbana Country Dancers":MAILTO:lewart3@gmail.com
END:VEVENT
BEGIN:VEVENT
DTSTART;TZID=America/Chicago:20250109T190000
DTEND;TZID=America/Chicago:20250109T210000
DTSTAMP:20260420T090915
CREATED:20250106T091950Z
LAST-MODIFIED:20250106T091950Z
UID:21490-1736449200-1736456400@folkandroots.org
SUMMARY:Old-Time Jam
DESCRIPTION:
URL:https://folkandroots.org/event/old-time-jam-38/
LOCATION:Lincoln Square Mall\, 201 Lincoln Square\, Urbana\, IL\, 61801\, United States
CATEGORIES:Old-Time Music
END:VEVENT
BEGIN:VEVENT
DTSTART;TZID=America/Chicago:20250107T193000
DTEND;TZID=America/Chicago:20250107T213000
DTSTAMP:20260420T090915
CREATED:20250106T090412Z
LAST-MODIFIED:20250106T090412Z
UID:21482-1736278200-1736285400@folkandroots.org
SUMMARY:International Folk Dance
DESCRIPTION:Explore dances from around the world. \nBeginners welcome!
URL:https://folkandroots.org/event/international-folk-dance-38/
LOCATION:UU Church of Urbana-Champaign\, 309 W Green St\, Urbana\, 61801\, United States
CATEGORIES:International Folk Dance
ORGANIZER;CN="Urbana Folkdance Organization":MAILTO:bonnythiel@yahoo.com
END:VEVENT
BEGIN:VEVENT
DTSTART;TZID=America/Chicago:20241230T173000
DTEND;TZID=America/Chicago:20241230T193000
DTSTAMP:20260420T090915
CREATED:20241122T084729Z
LAST-MODIFIED:20241122T084729Z
UID:21466-1735579800-1735587000@folkandroots.org
SUMMARY:Papashoy Klezmer Band
DESCRIPTION:Urbana’s Papashoy (corn) plays klezmer music in the style of the village bands of Yiddish Eastern Europe’s own corn country. The original party music!
URL:https://folkandroots.org/event/papashoy-klezmer-band-2/
LOCATION:Rose Bowl Tavern\, 106 N Race St\, Urbana\, IL\, 61801\, United States
CATEGORIES:Klezmer
END:VEVENT
BEGIN:VEVENT
DTSTART;TZID=America/Chicago:20241226T190000
DTEND;TZID=America/Chicago:20241226T210000
DTSTAMP:20260420T090915
CREATED:20241109T050027Z
LAST-MODIFIED:20241223T054245Z
UID:21444-1735239600-1735246800@folkandroots.org
SUMMARY:Old-Time Jam
DESCRIPTION:
URL:https://folkandroots.org/event/old-time-jam-37/
LOCATION:Lincoln Square Mall\, 201 Lincoln Square\, Urbana\, IL\, 61801\, United States
CATEGORIES:Old-Time Music
END:VEVENT
END:VCALENDAR