BEGIN:VCALENDAR
VERSION:2.0
PRODID:-//CU Folk &amp; Roots - ECPv6.15.20//NONSGML v1.0//EN
CALSCALE:GREGORIAN
METHOD:PUBLISH
X-ORIGINAL-URL:https://folkandroots.org
X-WR-CALDESC:Events for CU Folk &amp; Roots
REFRESH-INTERVAL;VALUE=DURATION:PT1H
X-Robots-Tag:noindex
X-PUBLISHED-TTL:PT1H
BEGIN:VTIMEZONE
TZID:America/Chicago
BEGIN:DAYLIGHT
TZOFFSETFROM:-0600
TZOFFSETTO:-0500
TZNAME:CDT
DTSTART:20240310T080000
END:DAYLIGHT
BEGIN:STANDARD
TZOFFSETFROM:-0500
TZOFFSETTO:-0600
TZNAME:CST
DTSTART:20241103T070000
END:STANDARD
BEGIN:DAYLIGHT
TZOFFSETFROM:-0600
TZOFFSETTO:-0500
TZNAME:CDT
DTSTART:20250309T080000
END:DAYLIGHT
BEGIN:STANDARD
TZOFFSETFROM:-0500
TZOFFSETTO:-0600
TZNAME:CST
DTSTART:20251102T070000
END:STANDARD
BEGIN:DAYLIGHT
TZOFFSETFROM:-0600
TZOFFSETTO:-0500
TZNAME:CDT
DTSTART:20260308T080000
END:DAYLIGHT
BEGIN:STANDARD
TZOFFSETFROM:-0500
TZOFFSETTO:-0600
TZNAME:CST
DTSTART:20261101T070000
END:STANDARD
END:VTIMEZONE
BEGIN:VEVENT
DTSTART;TZID=America/Chicago:20250726T110000
DTEND;TZID=America/Chicago:20250726T120000
DTSTAMP:20260423T053140
CREATED:20250715T054537Z
LAST-MODIFIED:20250715T054537Z
UID:21926-1753527600-1753531200@folkandroots.org
SUMMARY:Tango for All: A Musical Adventure for Kids
DESCRIPTION:Join us for a lively and family-friendly Tango for All! This interactive event introduces young audiences to the vibrant rhythms and melodies of Argentine tango through fun performances\, engaging storytelling\, and hands-on musical exploration. Perfect for children of all ages\, the concert will inspire a love for music and culture in a playful\, welcoming setting. Don’t miss this unique opportunity to listen\, learn\, and explore the sounds of tango together! \nFeaturing CU Tango Music Workshop faculty\, participants\, and the Urbana Youth Tango Orchestra.
URL:https://folkandroots.org/event/tango-for-all-a-musical-adventure-for-kids/
LOCATION:Urbana Free Library\, 210 W Green St\, Urbana\, IL\, 61801\, United States
CATEGORIES:Tango
ORGANIZER;CN="CU Tango Music":MAILTO:cutangomusic@gmail.com
END:VEVENT
BEGIN:VEVENT
DTSTART;TZID=America/Chicago:20250726T200000
DTEND;TZID=America/Chicago:20250726T235900
DTSTAMP:20260423T053140
CREATED:20250715T054754Z
LAST-MODIFIED:20250715T054754Z
UID:21928-1753560000-1753574340@folkandroots.org
SUMMARY:Showcase Milonga with Music Workshop Participants
DESCRIPTION:The grand finale event of the 2025 CU Tango Music Workshop and Urbana Tango Week\, this tango social dance is open to the public and features DJed music along with live tango music performed by our music workshop musicians.
URL:https://folkandroots.org/event/showcase-milonga-with-music-workshop-participants/
LOCATION:Urbana Dance Company\, 122 W Main St\, Urbana\, IL\, 61801\, United States
CATEGORIES:Tango
ORGANIZER;CN="CU Tango Music":MAILTO:cutangomusic@gmail.com
END:VEVENT
END:VCALENDAR