BEGIN:VCALENDAR
VERSION:2.0
PRODID:-//CU Folk &amp; Roots - ECPv6.15.20//NONSGML v1.0//EN
CALSCALE:GREGORIAN
METHOD:PUBLISH
X-WR-CALNAME:CU Folk &amp; Roots
X-ORIGINAL-URL:https://folkandroots.org
X-WR-CALDESC:Events for CU Folk &amp; Roots
REFRESH-INTERVAL;VALUE=DURATION:PT1H
X-Robots-Tag:noindex
X-PUBLISHED-TTL:PT1H
BEGIN:VTIMEZONE
TZID:America/Chicago
BEGIN:DAYLIGHT
TZOFFSETFROM:-0600
TZOFFSETTO:-0500
TZNAME:CDT
DTSTART:20240310T080000
END:DAYLIGHT
BEGIN:STANDARD
TZOFFSETFROM:-0500
TZOFFSETTO:-0600
TZNAME:CST
DTSTART:20241103T070000
END:STANDARD
BEGIN:DAYLIGHT
TZOFFSETFROM:-0600
TZOFFSETTO:-0500
TZNAME:CDT
DTSTART:20250309T080000
END:DAYLIGHT
BEGIN:STANDARD
TZOFFSETFROM:-0500
TZOFFSETTO:-0600
TZNAME:CST
DTSTART:20251102T070000
END:STANDARD
BEGIN:DAYLIGHT
TZOFFSETFROM:-0600
TZOFFSETTO:-0500
TZNAME:CDT
DTSTART:20260308T080000
END:DAYLIGHT
BEGIN:STANDARD
TZOFFSETFROM:-0500
TZOFFSETTO:-0600
TZNAME:CST
DTSTART:20261101T070000
END:STANDARD
END:VTIMEZONE
BEGIN:VEVENT
DTSTART;TZID=America/Chicago:20250724T200000
DTEND;TZID=America/Chicago:20250724T220000
DTSTAMP:20260423T092442
CREATED:20250715T054215Z
LAST-MODIFIED:20250715T054215Z
UID:21922-1753387200-1753394400@folkandroots.org
SUMMARY:Tango Music Jam
DESCRIPTION:Anyone is welcome to perform as well as listen! Led by workshop faculty\, musicians will play tango songs by ear or by lead sheet. Workshop and community singers and instrumentalists are invited to join. \nLead sheets and lyrics will be provided; to download the lead sheets\, click the link below.
URL:https://folkandroots.org/event/tango-music-jam/
LOCATION:Rose Bowl Tavern\, 106 N Race St\, Urbana\, IL\, 61801\, United States
CATEGORIES:Tango
ORGANIZER;CN="CU Tango Music":MAILTO:cutangomusic@gmail.com
END:VEVENT
END:VCALENDAR