BEGIN:VCALENDAR
VERSION:2.0
PRODID:-//CU Folk &amp; Roots - ECPv6.15.20//NONSGML v1.0//EN
CALSCALE:GREGORIAN
METHOD:PUBLISH
X-WR-CALNAME:CU Folk &amp; Roots
X-ORIGINAL-URL:https://folkandroots.org
X-WR-CALDESC:Events for CU Folk &amp; Roots
REFRESH-INTERVAL;VALUE=DURATION:PT1H
X-Robots-Tag:noindex
X-PUBLISHED-TTL:PT1H
BEGIN:VTIMEZONE
TZID:America/Chicago
BEGIN:DAYLIGHT
TZOFFSETFROM:-0600
TZOFFSETTO:-0500
TZNAME:CDT
DTSTART:20240310T080000
END:DAYLIGHT
BEGIN:STANDARD
TZOFFSETFROM:-0500
TZOFFSETTO:-0600
TZNAME:CST
DTSTART:20241103T070000
END:STANDARD
BEGIN:DAYLIGHT
TZOFFSETFROM:-0600
TZOFFSETTO:-0500
TZNAME:CDT
DTSTART:20250309T080000
END:DAYLIGHT
BEGIN:STANDARD
TZOFFSETFROM:-0500
TZOFFSETTO:-0600
TZNAME:CST
DTSTART:20251102T070000
END:STANDARD
BEGIN:DAYLIGHT
TZOFFSETFROM:-0600
TZOFFSETTO:-0500
TZNAME:CDT
DTSTART:20260308T080000
END:DAYLIGHT
BEGIN:STANDARD
TZOFFSETFROM:-0500
TZOFFSETTO:-0600
TZNAME:CST
DTSTART:20261101T070000
END:STANDARD
END:VTIMEZONE
BEGIN:VEVENT
DTSTART;TZID=America/Chicago:20250723T200000
DTEND;TZID=America/Chicago:20250723T211500
DTSTAMP:20260423T052442
CREATED:20250715T053955Z
LAST-MODIFIED:20250715T054012Z
UID:21920-1753300800-1753305300@folkandroots.org
SUMMARY:Intro to Tango Dance
DESCRIPTION:Now that you’re hooked on the music\, are you curious about the dance? Try this free\, low-commitment\, judgement-free intro to tango dance class taught by En-Chi Lin and Maxfield Wollam-Fisher.
URL:https://folkandroots.org/event/intro-to-tango-dance/
LOCATION:Urbana Dance Company\, 122 W Main St\, Urbana\, IL\, 61801\, United States
CATEGORIES:Tango
ORGANIZER;CN="CU Tango Music":MAILTO:cutangomusic@gmail.com
END:VEVENT
END:VCALENDAR