BEGIN:VCALENDAR
VERSION:2.0
PRODID:-//CU Folk &amp; Roots - ECPv6.15.20//NONSGML v1.0//EN
CALSCALE:GREGORIAN
METHOD:PUBLISH
X-ORIGINAL-URL:https://folkandroots.org
X-WR-CALDESC:Events for CU Folk &amp; Roots
REFRESH-INTERVAL;VALUE=DURATION:PT1H
X-Robots-Tag:noindex
X-PUBLISHED-TTL:PT1H
BEGIN:VTIMEZONE
TZID:America/Chicago
BEGIN:DAYLIGHT
TZOFFSETFROM:-0600
TZOFFSETTO:-0500
TZNAME:CDT
DTSTART:20240310T080000
END:DAYLIGHT
BEGIN:STANDARD
TZOFFSETFROM:-0500
TZOFFSETTO:-0600
TZNAME:CST
DTSTART:20241103T070000
END:STANDARD
BEGIN:DAYLIGHT
TZOFFSETFROM:-0600
TZOFFSETTO:-0500
TZNAME:CDT
DTSTART:20250309T080000
END:DAYLIGHT
BEGIN:STANDARD
TZOFFSETFROM:-0500
TZOFFSETTO:-0600
TZNAME:CST
DTSTART:20251102T070000
END:STANDARD
BEGIN:DAYLIGHT
TZOFFSETFROM:-0600
TZOFFSETTO:-0500
TZNAME:CDT
DTSTART:20260308T080000
END:DAYLIGHT
BEGIN:STANDARD
TZOFFSETFROM:-0500
TZOFFSETTO:-0600
TZNAME:CST
DTSTART:20261101T070000
END:STANDARD
END:VTIMEZONE
BEGIN:VEVENT
DTSTART;TZID=America/Chicago:20250721T200000
DTEND;TZID=America/Chicago:20250721T220000
DTSTAMP:20260423T065546
CREATED:20250715T053514Z
LAST-MODIFIED:20250715T053514Z
UID:21915-1753128000-1753135200@folkandroots.org
SUMMARY:Tango Movie Night
DESCRIPTION:Kicking off our week of public events is our showing of “The Hidden Sound of Tango”\, a 2023 film directed by Yael Szmulewicz. \nMusician and guitar collector Patricio Crom restores a vintage Boca de Estrella guitar\, delving into guitar playing techniques\, the craft of building and restoration\, and culminating in a performance with top Argentine tango guitarists.
URL:https://folkandroots.org/event/tango-movie-night/
LOCATION:Gallery Art Bar\, 119 W Main St\, Urbana\, IL\, 61801\, United States
CATEGORIES:Tango
ORGANIZER;CN="CU Tango Music":MAILTO:cutangomusic@gmail.com
END:VEVENT
END:VCALENDAR