BEGIN:VCALENDAR
VERSION:2.0
PRODID:-//CU Folk &amp; Roots - ECPv6.15.20//NONSGML v1.0//EN
CALSCALE:GREGORIAN
METHOD:PUBLISH
X-ORIGINAL-URL:https://folkandroots.org
X-WR-CALDESC:Events for CU Folk &amp; Roots
REFRESH-INTERVAL;VALUE=DURATION:PT1H
X-Robots-Tag:noindex
X-PUBLISHED-TTL:PT1H
BEGIN:VTIMEZONE
TZID:America/Chicago
BEGIN:DAYLIGHT
TZOFFSETFROM:-0600
TZOFFSETTO:-0500
TZNAME:CDT
DTSTART:20250309T080000
END:DAYLIGHT
BEGIN:STANDARD
TZOFFSETFROM:-0500
TZOFFSETTO:-0600
TZNAME:CST
DTSTART:20251102T070000
END:STANDARD
BEGIN:DAYLIGHT
TZOFFSETFROM:-0600
TZOFFSETTO:-0500
TZNAME:CDT
DTSTART:20260308T080000
END:DAYLIGHT
BEGIN:STANDARD
TZOFFSETFROM:-0500
TZOFFSETTO:-0600
TZNAME:CST
DTSTART:20261101T070000
END:STANDARD
BEGIN:DAYLIGHT
TZOFFSETFROM:-0600
TZOFFSETTO:-0500
TZNAME:CDT
DTSTART:20270314T080000
END:DAYLIGHT
BEGIN:STANDARD
TZOFFSETFROM:-0500
TZOFFSETTO:-0600
TZNAME:CST
DTSTART:20271107T070000
END:STANDARD
END:VTIMEZONE
BEGIN:VEVENT
DTSTART;TZID=America/Chicago:20260118T190000
DTEND;TZID=America/Chicago:20260118T210000
DTSTAMP:20260421T155437
CREATED:20260108T063338Z
LAST-MODIFIED:20260108T063338Z
UID:22594-1768762800-1768770000@folkandroots.org
SUMMARY:Lindy Hoppers at Hamilton Walker's
DESCRIPTION:Join the Illini Swing Society as we DJ our monthly Free SUNDAY swing dance in collaboration with the wonderful Hamilton Walker’s restaurant in downtown Champaign! \nNo registration or experience needed\, enjoy the music and join a dance with us! No partner needed!
URL:https://folkandroots.org/event/lindy-hoppers-at-hamilton-walkers-6/
LOCATION:Hamilton Walker’s\, 201 N Neil St\, Champaign\, IL\, 61820\, United States
CATEGORIES:Swing Dance
END:VEVENT
BEGIN:VEVENT
DTSTART;TZID=America/Chicago:20260120T190000
DTEND;TZID=America/Chicago:20260120T203000
DTSTAMP:20260421T155437
CREATED:20260119T205411Z
LAST-MODIFIED:20260120T015047Z
UID:22690-1768935600-1768941000@folkandroots.org
SUMMARY:Balboa Crash Course and Open Practice
DESCRIPTION:Monthly special Balboa TUESDAY class – Learn from wonderful Balboa swing dancer\, Ann Sychterz! Fast music comes on? No problem\, you’ll be ready to Balboa!
URL:https://folkandroots.org/event/balboa-crash-course-and-open-practice-6/
LOCATION:Illini Union\, 1401 W Green St\, Urbana\, IL\, 61801\, United States
CATEGORIES:Swing Dance
END:VEVENT
BEGIN:VEVENT
DTSTART;TZID=America/Chicago:20260124T190000
DTEND;TZID=America/Chicago:20260124T223000
DTSTAMP:20260421T155437
CREATED:20260113T074459Z
LAST-MODIFIED:20260113T075254Z
UID:22617-1769281200-1769293800@folkandroots.org
SUMMARY:Free Spring 2026 Kickoff Swing Dance
DESCRIPTION:Free Saturday Swing Kickoff on January 24th! We are kicking off Winter 2026 with a Live Band Dance (Free) featuring a Drop-In Beginning Swing class (Free)! General Public + Students welcome! \nRAFFLE: Join Kickoff Raffle for free – 2 lucky people will win swing class series! Drawing during dance. Must be present to win \nWHAT:\n7-8pm: Free Drop-in Beginner Swing Class *No partner needed\n8-10:30pm: Free Live Band Social Dance  \nWHO: Both students AND community members attend our events and are very welcome! \nFAQ:\nDo I need a partner?\nNO! In dance class we will rotate partners so you’ll get to know new people and different dance styles. During the dance we ask each other for a dance. \nWhat kind of shoes?\nThere are no special shoes needed. Consider comfortable shoes that you won’t slip out of. \nFunded by SORF
URL:https://folkandroots.org/event/free-spring-2026-kickoff-swing-dance/
LOCATION:Illini Union\, 1401 W Green St\, Urbana\, IL\, 61801\, United States
CATEGORIES:Swing Dance
END:VEVENT
END:VCALENDAR