BEGIN:VCALENDAR
VERSION:2.0
PRODID:-//CU Folk &amp; Roots - ECPv6.15.20//NONSGML v1.0//EN
CALSCALE:GREGORIAN
METHOD:PUBLISH
X-WR-CALNAME:CU Folk &amp; Roots
X-ORIGINAL-URL:https://folkandroots.org
X-WR-CALDESC:Events for CU Folk &amp; Roots
REFRESH-INTERVAL;VALUE=DURATION:PT1H
X-Robots-Tag:noindex
X-PUBLISHED-TTL:PT1H
BEGIN:VTIMEZONE
TZID:America/Chicago
BEGIN:DAYLIGHT
TZOFFSETFROM:-0600
TZOFFSETTO:-0500
TZNAME:CDT
DTSTART:20240310T080000
END:DAYLIGHT
BEGIN:STANDARD
TZOFFSETFROM:-0500
TZOFFSETTO:-0600
TZNAME:CST
DTSTART:20241103T070000
END:STANDARD
BEGIN:DAYLIGHT
TZOFFSETFROM:-0600
TZOFFSETTO:-0500
TZNAME:CDT
DTSTART:20250309T080000
END:DAYLIGHT
BEGIN:STANDARD
TZOFFSETFROM:-0500
TZOFFSETTO:-0600
TZNAME:CST
DTSTART:20251102T070000
END:STANDARD
BEGIN:DAYLIGHT
TZOFFSETFROM:-0600
TZOFFSETTO:-0500
TZNAME:CDT
DTSTART:20260308T080000
END:DAYLIGHT
BEGIN:STANDARD
TZOFFSETFROM:-0500
TZOFFSETTO:-0600
TZNAME:CST
DTSTART:20261101T070000
END:STANDARD
END:VTIMEZONE
BEGIN:VEVENT
DTSTART;TZID=America/Chicago:20251206T183000
DTEND;TZID=America/Chicago:20251206T220000
DTSTAMP:20260421T201613
CREATED:20251203T093549Z
LAST-MODIFIED:20251203T093549Z
UID:22523-1765045800-1765058400@folkandroots.org
SUMMARY:Free Holiday Swing Dance
DESCRIPTION:6:30PM-7:30PM FREE Beginner Lesson \n7:30PM-10:00PM FREE Band Dance featuring Django Wrangle
URL:https://folkandroots.org/event/free-holiday-swing-dance/
LOCATION:Wesley Foundation\, 1203 W Green St\, Urbana\, IL\, 61801\, United States
CATEGORIES:Swing Dance
ORGANIZER;CN="CU Community Swing Dance":MAILTO:CUswingdanceCU@gmail.com
END:VEVENT
BEGIN:VEVENT
DTSTART;TZID=America/Chicago:20251209T190000
DTEND;TZID=America/Chicago:20251209T210000
DTSTAMP:20260421T201614
CREATED:20251203T101038Z
LAST-MODIFIED:20251208T174038Z
UID:22548-1765306800-1765314000@folkandroots.org
SUMMARY:Balboa Crash Course and Open Practice
DESCRIPTION:Monthly special Balboa TUESDAY class – Learn from wonderful Balboa swing dancer\, Ann Sychterz! Fast music comes on? No problem\, you’ll be ready to Balboa!
URL:https://folkandroots.org/event/balboa-crash-course-and-open-practice-5/
LOCATION:Illini Union\, 1401 W Green St\, Urbana\, IL\, 61801\, United States
CATEGORIES:Swing Dance
END:VEVENT
BEGIN:VEVENT
DTSTART;TZID=America/Chicago:20251214T190000
DTEND;TZID=America/Chicago:20251214T210000
DTSTAMP:20260421T201614
CREATED:20251021T055108Z
LAST-MODIFIED:20251021T055108Z
UID:22517-1765738800-1765746000@folkandroots.org
SUMMARY:Lindy Hoppers at Hamilton Walker's
DESCRIPTION:Join the Illini Swing Society as we DJ our monthly Free SUNDAY swing dance in collaboration with the wonderful Hamilton Walker’s restaurant in downtown Champaign! \nNo registration or experience needed\, enjoy the music and join a dance with us! No partner needed!
URL:https://folkandroots.org/event/lindy-hoppers-at-hamilton-walkers-5/
LOCATION:Hamilton Walker’s\, 201 N Neil St\, Champaign\, IL\, 61820\, United States
CATEGORIES:Swing Dance
END:VEVENT
END:VCALENDAR